BEGIN:VCALENDAR
VERSION:2.0
PRODID:-//Delta County Tourism - ECPv6.15.20//NONSGML v1.0//EN
CALSCALE:GREGORIAN
METHOD:PUBLISH
X-WR-CALNAME:Delta County Tourism
X-ORIGINAL-URL:https://deltacountycolorado.com
X-WR-CALDESC:Events for Delta County Tourism
REFRESH-INTERVAL;VALUE=DURATION:PT1H
X-Robots-Tag:noindex
X-PUBLISHED-TTL:PT1H
BEGIN:VTIMEZONE
TZID:America/Denver
BEGIN:DAYLIGHT
TZOFFSETFROM:-0700
TZOFFSETTO:-0600
TZNAME:MDT
DTSTART:20250309T090000
END:DAYLIGHT
BEGIN:STANDARD
TZOFFSETFROM:-0600
TZOFFSETTO:-0700
TZNAME:MST
DTSTART:20251102T080000
END:STANDARD
BEGIN:DAYLIGHT
TZOFFSETFROM:-0700
TZOFFSETTO:-0600
TZNAME:MDT
DTSTART:20260308T090000
END:DAYLIGHT
BEGIN:STANDARD
TZOFFSETFROM:-0600
TZOFFSETTO:-0700
TZNAME:MST
DTSTART:20261101T080000
END:STANDARD
BEGIN:DAYLIGHT
TZOFFSETFROM:-0700
TZOFFSETTO:-0600
TZNAME:MDT
DTSTART:20270314T090000
END:DAYLIGHT
BEGIN:STANDARD
TZOFFSETFROM:-0600
TZOFFSETTO:-0700
TZNAME:MST
DTSTART:20271107T080000
END:STANDARD
END:VTIMEZONE
BEGIN:VEVENT
DTSTART;TZID=America/Denver:20260424T160000
DTEND;TZID=America/Denver:20260424T190000
DTSTAMP:20260424T012012
CREATED:20260224T200236Z
LAST-MODIFIED:20260224T200236Z
UID:10006265-1777046400-1777057200@deltacountycolorado.com
SUMMARY:Taste of Spring- Delta
DESCRIPTION:The 11th annual Taste of Spring returns on Saturday\, April 25\, 2026! Taste of Spring will feature various food and drink vendors from Western Colorado and beyond. As a ticket holder\, you will taste and experience signature offerings from these incredible craft producers! Taste of Spring is held at the Bill Heddles Recreation Center in Delta from 4-7 pm. In addition to the tastings\, enjoy live music and a live and silent auction.\nFor those interested in experiencing more\, please join us for our VIP dinner the evening before on Friday\, April 24! Hosted by The Grove Delta\, VIP diners will experience an incredible multi-course meal paired with signature drinks from some of our featured vendors. VIP Tickets include admission to the tasting event on Saturday as well. All event proceeds benefit our designated nonprofit\, Delta County Young Life.
URL:https://deltacountycolorado.com/event/taste-of-spring-delta/
LOCATION:Bill Heddles Recreation Center\, 531 N. Palmer St.\, Delta\, CO\, 81416
CATEGORIES:Food,Fundraiser,Wine
ATTACH;FMTTYPE=image/jpeg:https://deltacountycolorado.com/wp-content/uploads/2026/02/taste-of-Spring.jpg
END:VEVENT
BEGIN:VEVENT
DTSTART;TZID=America/Denver:20260424T190000
DTEND;TZID=America/Denver:20260424T203000
DTSTAMP:20260424T012012
CREATED:20260323T194047Z
LAST-MODIFIED:20260323T194047Z
UID:10006284-1777057200-1777062600@deltacountycolorado.com
SUMMARY:The Last Show of the Season- The SUITS presented by DMCCA
DESCRIPTION:Experience the “Last Show of the Season” with an unforgettable performance by The Suits! This dynamic quartet features four gentlemen performing a high-energy fusion of Motown\, Doo Wop\, Pop\, and Rock. Covering hit music from the 50s through the 80s\, the production combines tight harmonies and smooth choreography with exciting showmanship and fun audience interaction.  \nJoin us on Friday\, April 24\, 2026\, at the Delta Center for Performing Arts. Doors open at 6:00 PM\, and the show begins at 7:00 PM. Whether you are a fan of classic rock or soulful Motown\, this performance promises a night to remember for the whole family!  \n\n 
URL:https://deltacountycolorado.com/event/suits-concert-delta/
LOCATION:Delta Center for Performing Arts Center\, 822 Grand Avenue\, Delta\, CO\, 81416
CATEGORIES:Arts & Culture
ATTACH;FMTTYPE=image/png:https://deltacountycolorado.com/wp-content/uploads/2026/03/04.24.2026-The-Suits.png
END:VEVENT
END:VCALENDAR