BEGIN:VCALENDAR
VERSION:2.0
PRODID:-//Delta County Tourism - ECPv6.15.20//NONSGML v1.0//EN
CALSCALE:GREGORIAN
METHOD:PUBLISH
X-ORIGINAL-URL:https://deltacountycolorado.com
X-WR-CALDESC:Events for Delta County Tourism
REFRESH-INTERVAL;VALUE=DURATION:PT1H
X-Robots-Tag:noindex
X-PUBLISHED-TTL:PT1H
BEGIN:VTIMEZONE
TZID:America/Denver
BEGIN:DAYLIGHT
TZOFFSETFROM:-0700
TZOFFSETTO:-0600
TZNAME:MDT
DTSTART:20250309T090000
END:DAYLIGHT
BEGIN:STANDARD
TZOFFSETFROM:-0600
TZOFFSETTO:-0700
TZNAME:MST
DTSTART:20251102T080000
END:STANDARD
BEGIN:DAYLIGHT
TZOFFSETFROM:-0700
TZOFFSETTO:-0600
TZNAME:MDT
DTSTART:20260308T090000
END:DAYLIGHT
BEGIN:STANDARD
TZOFFSETFROM:-0600
TZOFFSETTO:-0700
TZNAME:MST
DTSTART:20261101T080000
END:STANDARD
BEGIN:DAYLIGHT
TZOFFSETFROM:-0700
TZOFFSETTO:-0600
TZNAME:MDT
DTSTART:20270314T090000
END:DAYLIGHT
BEGIN:STANDARD
TZOFFSETFROM:-0600
TZOFFSETTO:-0700
TZNAME:MST
DTSTART:20271107T080000
END:STANDARD
END:VTIMEZONE
BEGIN:VEVENT
DTSTART;VALUE=DATE:20260501
DTEND;VALUE=DATE:20260504
DTSTAMP:20260421T235012
CREATED:20260211T205805Z
LAST-MODIFIED:20260211T205805Z
UID:10006240-1777593600-1777852799@deltacountycolorado.com
SUMMARY:The 5th Annual Hestival - Big B's Delicious Orchards
DESCRIPTION:The 5th Annual HESTIVAL returns to Big B’s Delicious Orchards the weekend of May 1–3\, 2026! This year\, the event evolves into a purpose-driven festival in partnership with The Conservation Alliance\, celebrating and protecting the public lands where we play and camp. \nThe weekend features an incredible live music lineup including the Jeremy Garrett Bluegrass Band featuring Kyle Tuttle\, John Craigie\, and The Coffis Brothers. True to its roots\, HESTIVAL remains a family and dog-friendly experience filled with outdoor adventures\, local food\, and nights spent camping under the stars in blossoming apple orchards. A portion of every ticket sold will be donated to help raise awareness and advocacy for our treasured public land
URL:https://deltacountycolorado.com/event/the-5th-annual-hestival-big-bs-delicious-orchards/
LOCATION:Big B’s Delicious Orchards U-pick\, Cafe & Tasting Room\, 39126 CO-133\, Hotchkiss\, CO\, 81419
CATEGORIES:Arts & Culture,Camping,Festivals,Live Music
ATTACH;FMTTYPE=image/jpeg:https://deltacountycolorado.com/wp-content/uploads/2026/02/Hestival.jpg
ORGANIZER;CN="Big B's":MAILTO:info@bigbs.com
END:VEVENT
BEGIN:VEVENT
DTSTART;TZID=America/Denver:20260501T080000
DTEND;TZID=America/Denver:20260505T170000
DTSTAMP:20260421T235012
CREATED:20260414T175221Z
LAST-MODIFIED:20260414T175221Z
UID:10006338-1777622400-1778000400@deltacountycolorado.com
SUMMARY:The 52nd Annual Edge of Cedars Art Exhibit
DESCRIPTION:Experience a cornerstone of the Colorado art scene at the 52nd Annual Edge of Cedars Art Exhibit! Presented by Kevin Parks State Farm Insurance\, this prestigious showcase brings together talented artists from across the entire state of Colorado to display their work in the beautiful Bank of Colorado Theater. \nFrom traditional paintings to contemporary masterpieces\, this exhibit offers a diverse look at the high-altitude creativity our region is known for. The event is free and open to the public\, making it the perfect spring outing for art lovers and families alike. If you are an artist interested in showing your work\, there is still time to register! Visit our website or scan the QR code to join this historic Cedaredge tradition. \nEvent Details\nDates: May 1 – 5\, 2026 \nLocation: Bank of Colorado Theater at Grand Mesa Arts & Events Center \nAddress: 195 W. Main Street\, Cedaredge\, CO 81413 \nCost: Free and Open to the Public!
URL:https://deltacountycolorado.com/event/the-52nd-annual-edge-of-cedars-art-exhibit/
LOCATION:Grand Mesa Arts and Events Center\, 195 W. Main St.\, Cedaredge\, CO\, 81413
CATEGORIES:Arts & Culture
ATTACH;FMTTYPE=image/jpeg:https://deltacountycolorado.com/wp-content/uploads/2026/04/Edge-of-Cedars-2026-scaled.jpg
ORGANIZER;CN="Grand Mesa Arts and Events Center":MAILTO:info@grandmesaartscenter.com
END:VEVENT
BEGIN:VEVENT
DTSTART;TZID=America/Denver:20260502T083000
DTEND;TZID=America/Denver:20260502T130000
DTSTAMP:20260421T235012
CREATED:20260416T173020Z
LAST-MODIFIED:20260416T173020Z
UID:10006415-1777710600-1777726800@deltacountycolorado.com
SUMMARY:Delta CO Farmers Market & Bazaar
DESCRIPTION:Welcome to the 2026 season of the Delta Farmers Market & Bazaar\, now in an exciting NEW LOCATION! Join us at the Haven House Thrift Store (the old Summers Motors) for a vibrant community experience that is truly “in the middle of everywhere”. \nThis year\, we are celebrating our new space with more vendors and more fresh produce than ever before. Browse a diverse selection of locally grown fruits and vegetables\, handmade crafts\, and unique artisan products. Beyond the fresh finds\, our Market Bazaar is a treasure hunter’s dream\, featuring antiques\, collectibles\, and fine art. Whether you’re looking for the perfect gift\, garden starts\, or your weekly groceries\, the Delta Farmers Market & Bazaar is your one-stop shop for local quality. \nEvent Details\nSeason Dates: May 2nd – October 31st\, 2026 \nSaturday Hours: 8:30 AM – 1:00 PM (May through October) \nWednesday Hours: 8:30 AM – 1:00 PM (June through August only) \nLocation: 2195 Southgate Lane\, Delta\, CO (South of Value Lodge on Hwy 50) \nFeatured Vendors: Barajas Dream Orchard\, Twilight Coffee Roasters\, McBees Farm\, and more!
URL:https://deltacountycolorado.com/event/delta-co-farmers-market-bazaar/2026-05-02/
LOCATION:Delta CO Farmers Market & Bazaar\, 2195 South Gate Lane\, Delta\, CO\, 81416\, United States
CATEGORIES:Agriculture,Farmers Market
ATTACH;FMTTYPE=image/png:https://deltacountycolorado.com/wp-content/uploads/2026/04/Delta-farmers-market-scaled.png
ORGANIZER;CN="Delta Farmers Market":MAILTO:deltacofarmersmarket@gmail.com
END:VEVENT
BEGIN:VEVENT
DTSTART;TZID=America/Denver:20260502T100000
DTEND;TZID=America/Denver:20260502T220000
DTSTAMP:20260421T235012
CREATED:20260414T181701Z
LAST-MODIFIED:20260414T181701Z
UID:10006341-1777716000-1777759200@deltacountycolorado.com
SUMMARY:Cinco de Mayo Fiesta
DESCRIPTION:Experience Heritage in the heart of Delta at the annual Cinco de Mayo Fiesta! Join us at the Grand View Event Center for a full day of community celebration featuring live music\, traditional dance\, and family-friendly fun. \nGates open at 10:00 AM\, where you can explore a variety of food trucks serving authentic tacos\, elotes\, and churros\, or browse unique offerings from local artisans and craft vendors. The main stage will be alive all day with high-energy performances\, including regional Mexican music from Estilo Heredado\, folkloric routines from the ALT Dance Team\, and live entertainment from Danza San Miguel. Stay through the evening to catch the Mexican Rodeo and live music to close out the night! Tickets for the rodeo and closing music are available for purchase at the gate. \nEvent Details\nDate: May 2\, 2026 \nTime: 10:00 AM – 10:00 PM \nLocation: Grand View Event Center \nAddress: 680 1800 Rd.\, Delta\, Colorado \nMain Stage Lineup: Estilo Heredado\, ALT Dance Team\, and Danza San Miguel \nContact: (970) 270-1411
URL:https://deltacountycolorado.com/event/cinco-de-mayo-fiesta/
LOCATION:Grand View Events Center\, 680 1800 Rd\, Delta\, 81416
CATEGORIES:America 250- Colorado 150,Arts & Culture,Holiday Event,Live Music,Rodeo
ATTACH;FMTTYPE=image/jpeg:https://deltacountycolorado.com/wp-content/uploads/2026/04/Cinco-De-Mayo.jpg
END:VEVENT
BEGIN:VEVENT
DTSTART;TZID=America/Denver:20260502T190000
DTEND;TZID=America/Denver:20260502T210000
DTSTAMP:20260421T235012
CREATED:20260217T191607Z
LAST-MODIFIED:20260217T191607Z
UID:10006256-1777748400-1777755600@deltacountycolorado.com
SUMMARY:Spring Classic Concert Series - Blue Sage
DESCRIPTION:Experience world-class artistry in the heart of Paonia with the Spring Classical Concert Series 2026 at the Blue Sage Center for the Arts. This curated series features four exceptional soloists performing throughout the spring season: \nFriday\, March 13: Oboist Nick Carozza. \nSaturday\, April 18: Guitarist Javier De Los Santos. \nSaturday\, May 2: Cellist Jason Pegis. \nSaturday\, May 23: Pianist Susan Ellinger. \nSecure your seat for the entire season and support local arts by purchasing a Season Pass for only $60. Don’t miss this opportunity to witness breathtaking musical performances in an intimate community setting.
URL:https://deltacountycolorado.com/event/spring-classic-concert-series-blue-sage/2026-05-02/
LOCATION:Blue Sage Center for the Arts\, 226 Grand Avenue\, Paonia\, CO\, 81428
CATEGORIES:Arts & Culture,Live Music
ATTACH;FMTTYPE=image/png:https://deltacountycolorado.com/wp-content/uploads/2026/02/Blue-Sage-Center-Classical-Music-Concert-Series-1.png
END:VEVENT
END:VCALENDAR