BEGIN:VCALENDAR
VERSION:2.0
PRODID:-//Delta County Tourism - ECPv6.15.20//NONSGML v1.0//EN
CALSCALE:GREGORIAN
METHOD:PUBLISH
X-WR-CALNAME:Delta County Tourism
X-ORIGINAL-URL:https://deltacountycolorado.com
X-WR-CALDESC:Events for Delta County Tourism
REFRESH-INTERVAL;VALUE=DURATION:PT1H
X-Robots-Tag:noindex
X-PUBLISHED-TTL:PT1H
BEGIN:VTIMEZONE
TZID:America/Denver
BEGIN:DAYLIGHT
TZOFFSETFROM:-0700
TZOFFSETTO:-0600
TZNAME:MDT
DTSTART:20250309T090000
END:DAYLIGHT
BEGIN:STANDARD
TZOFFSETFROM:-0600
TZOFFSETTO:-0700
TZNAME:MST
DTSTART:20251102T080000
END:STANDARD
BEGIN:DAYLIGHT
TZOFFSETFROM:-0700
TZOFFSETTO:-0600
TZNAME:MDT
DTSTART:20260308T090000
END:DAYLIGHT
BEGIN:STANDARD
TZOFFSETFROM:-0600
TZOFFSETTO:-0700
TZNAME:MST
DTSTART:20261101T080000
END:STANDARD
BEGIN:DAYLIGHT
TZOFFSETFROM:-0700
TZOFFSETTO:-0600
TZNAME:MDT
DTSTART:20270314T090000
END:DAYLIGHT
BEGIN:STANDARD
TZOFFSETFROM:-0600
TZOFFSETTO:-0700
TZNAME:MST
DTSTART:20271107T080000
END:STANDARD
END:VTIMEZONE
BEGIN:VEVENT
DTSTART;TZID=America/Denver:20260409T110000
DTEND;TZID=America/Denver:20260409T130000
DTSTAMP:20260420T025345
CREATED:20260331T181620Z
LAST-MODIFIED:20260331T181620Z
UID:10006286-1775732400-1775739600@deltacountycolorado.com
SUMMARY:Step into Wellness Walk
DESCRIPTION:Get active and celebrate community health at the Step Into Wellness Walk! Hosted by Delta County Public Health and Delta Health\, this event is a key part of our Public Health Week 2026 celebrations. We invite community members of all ages to join us for a refreshing morning walk as we promote physical activity and well-being in the beautiful outdoors. \n\n  \nThe walk will take place on Thursday\, April 9\, at 11:00 AM at Confluence Park in Delta. Whether you are a seasoned walker or just looking to get moving\, this is a wonderful opportunity to connect with neighbors and health professionals while taking a proactive step toward a healthier lifestyle. Ready\, Set\, Action—be part of the movement for a healthier Delta County!
URL:https://deltacountycolorado.com/event/step-into-wellness-walk/
LOCATION:Confluence Park\, Gunnison River Drive\, Delta\, CO\, 81416
CATEGORIES:5K,Health & Wellness
ATTACH;FMTTYPE=image/jpeg:https://deltacountycolorado.com/wp-content/uploads/2026/03/Step-into-wellness.jpg
END:VEVENT
END:VCALENDAR