BEGIN:VCALENDAR
VERSION:2.0
PRODID:-//Delta County Tourism - ECPv6.15.20//NONSGML v1.0//EN
CALSCALE:GREGORIAN
METHOD:PUBLISH
X-ORIGINAL-URL:https://deltacountycolorado.com
X-WR-CALDESC:Events for Delta County Tourism
REFRESH-INTERVAL;VALUE=DURATION:PT1H
X-Robots-Tag:noindex
X-PUBLISHED-TTL:PT1H
BEGIN:VTIMEZONE
TZID:America/Denver
BEGIN:DAYLIGHT
TZOFFSETFROM:-0700
TZOFFSETTO:-0600
TZNAME:MDT
DTSTART:20250309T090000
END:DAYLIGHT
BEGIN:STANDARD
TZOFFSETFROM:-0600
TZOFFSETTO:-0700
TZNAME:MST
DTSTART:20251102T080000
END:STANDARD
BEGIN:DAYLIGHT
TZOFFSETFROM:-0700
TZOFFSETTO:-0600
TZNAME:MDT
DTSTART:20260308T090000
END:DAYLIGHT
BEGIN:STANDARD
TZOFFSETFROM:-0600
TZOFFSETTO:-0700
TZNAME:MST
DTSTART:20261101T080000
END:STANDARD
BEGIN:DAYLIGHT
TZOFFSETFROM:-0700
TZOFFSETTO:-0600
TZNAME:MDT
DTSTART:20270314T090000
END:DAYLIGHT
BEGIN:STANDARD
TZOFFSETFROM:-0600
TZOFFSETTO:-0700
TZNAME:MST
DTSTART:20271107T080000
END:STANDARD
END:VTIMEZONE
BEGIN:VEVENT
DTSTART;VALUE=DATE:20260510
DTEND;VALUE=DATE:20260513
DTSTAMP:20260423T155511
CREATED:20260316T180042Z
LAST-MODIFIED:20260316T180042Z
UID:10006279-1778371200-1778630399@deltacountycolorado.com
SUMMARY:Wine & Whitewater Escape Weekend
DESCRIPTION:Experience the ultimate North Fork Valley getaway with the Wine & Whitewater Escape Weekend\, taking place July 10-12\, 2026. This all-inclusive luxury experience features a two-night stay at the Historic Bross Hotel\, complete with gourmet breakfasts. Your weekend begins with an elegant wine and hors d’oeuvres reception at Stone Cottage Cellars\, followed by a Saturday adventure rafting the Gunnison River with Western Slope SUP. \nWhile on the river\, enjoy personalized wine descriptions and tastings; you will even select 12 bottles to create a custom case of wine included in your package. The highlight of the weekend is the Winemaker’s Dinner at Wisehart Springs\, featuring a five-course “French Countryside” menu by Chef Ron Jardon\, expertly paired with Stone Cottage Wines. With only 10 couple spots available\, this popular event sells out quickly—book early to secure your room selection!
URL:https://deltacountycolorado.com/event/wine-whitewater-escape-weekend/
LOCATION:Paonia\, Paonia\, CO\, 81428
CATEGORIES:Agriculture,Arts & Culture,Water Events,Wine
ATTACH;FMTTYPE=image/jpeg:https://deltacountycolorado.com/wp-content/uploads/2026/03/Wine-Whitewater-Escape-2026.jpg
ORGANIZER;CN="Stone Cottage Cellars":MAILTO:info@stonecottagecellars.com
END:VEVENT
END:VCALENDAR