BEGIN:VCALENDAR
VERSION:2.0
PRODID:-//Delta County Tourism - ECPv6.15.20//NONSGML v1.0//EN
CALSCALE:GREGORIAN
METHOD:PUBLISH
X-ORIGINAL-URL:https://deltacountycolorado.com
X-WR-CALDESC:Events for Delta County Tourism
REFRESH-INTERVAL;VALUE=DURATION:PT1H
X-Robots-Tag:noindex
X-PUBLISHED-TTL:PT1H
BEGIN:VTIMEZONE
TZID:America/Denver
BEGIN:DAYLIGHT
TZOFFSETFROM:-0700
TZOFFSETTO:-0600
TZNAME:MDT
DTSTART:20250309T090000
END:DAYLIGHT
BEGIN:STANDARD
TZOFFSETFROM:-0600
TZOFFSETTO:-0700
TZNAME:MST
DTSTART:20251102T080000
END:STANDARD
BEGIN:DAYLIGHT
TZOFFSETFROM:-0700
TZOFFSETTO:-0600
TZNAME:MDT
DTSTART:20260308T090000
END:DAYLIGHT
BEGIN:STANDARD
TZOFFSETFROM:-0600
TZOFFSETTO:-0700
TZNAME:MST
DTSTART:20261101T080000
END:STANDARD
BEGIN:DAYLIGHT
TZOFFSETFROM:-0700
TZOFFSETTO:-0600
TZNAME:MDT
DTSTART:20270314T090000
END:DAYLIGHT
BEGIN:STANDARD
TZOFFSETFROM:-0600
TZOFFSETTO:-0700
TZNAME:MST
DTSTART:20271107T080000
END:STANDARD
END:VTIMEZONE
BEGIN:VEVENT
DTSTART;VALUE=DATE:20260611
DTEND;VALUE=DATE:20260614
DTSTAMP:20260423T173556
CREATED:20260202T163528Z
LAST-MODIFIED:20260408T174517Z
UID:10006237-1781136000-1781395199@deltacountycolorado.com
SUMMARY:Crawford Pioneer Days 2026
DESCRIPTION:Delta County’s First Festival of the Season is the “47th Annual Crawford Pioneer Days” Events held June 11-13 in Crawford! Make your way to Crawford for 3 full days of family friendly activities including a good Old Fashioned Melodrama Performance\, a Parade\, Vendor Village\, Outhouse Stuffing Competition\, Music in the Park\, Kids’ Games and watermelon eating contest\, a Fire Department Pancake Breakfast/Lunch and lastly everyone’s favorite…Fireworks over Crawford State Park on June 13th! For more information on the 47th Annual Crawford Pioneer Days visit crawfordpioneerdays.com \nClick HERE for the full schedule PDF
URL:https://deltacountycolorado.com/event/crawford-pioneer-days-2026/
LOCATION:Crawford Town Park
CATEGORIES:Agriculture,America 250- Colorado 150,Festivals
ATTACH;FMTTYPE=image/png:https://deltacountycolorado.com/wp-content/uploads/2026/02/Crawford-Pioonerr-Days-Gemini-AI-Generated-1.png
ORGANIZER;CN="Crawford Pioneer Days":MAILTO:CrawfordPioneerDays@gmail.com
END:VEVENT
END:VCALENDAR