BEGIN:VCALENDAR
VERSION:2.0
PRODID:-//Delta County Tourism - ECPv6.15.20//NONSGML v1.0//EN
CALSCALE:GREGORIAN
METHOD:PUBLISH
X-ORIGINAL-URL:https://deltacountycolorado.com
X-WR-CALDESC:Events for Delta County Tourism
REFRESH-INTERVAL;VALUE=DURATION:PT1H
X-Robots-Tag:noindex
X-PUBLISHED-TTL:PT1H
BEGIN:VTIMEZONE
TZID:America/Denver
BEGIN:DAYLIGHT
TZOFFSETFROM:-0700
TZOFFSETTO:-0600
TZNAME:MDT
DTSTART:20250309T090000
END:DAYLIGHT
BEGIN:STANDARD
TZOFFSETFROM:-0600
TZOFFSETTO:-0700
TZNAME:MST
DTSTART:20251102T080000
END:STANDARD
BEGIN:DAYLIGHT
TZOFFSETFROM:-0700
TZOFFSETTO:-0600
TZNAME:MDT
DTSTART:20260308T090000
END:DAYLIGHT
BEGIN:STANDARD
TZOFFSETFROM:-0600
TZOFFSETTO:-0700
TZNAME:MST
DTSTART:20261101T080000
END:STANDARD
BEGIN:DAYLIGHT
TZOFFSETFROM:-0700
TZOFFSETTO:-0600
TZNAME:MDT
DTSTART:20270314T090000
END:DAYLIGHT
BEGIN:STANDARD
TZOFFSETFROM:-0600
TZOFFSETTO:-0700
TZNAME:MST
DTSTART:20271107T080000
END:STANDARD
END:VTIMEZONE
BEGIN:VEVENT
DTSTART;TZID=America/Denver:20260419T140000
DTEND;TZID=America/Denver:20260419T150000
DTSTAMP:20260423T095027
CREATED:20260409T212337Z
LAST-MODIFIED:20260409T212504Z
UID:10006301-1776607200-1776610800@deltacountycolorado.com
SUMMARY:Delta County Fair & Rodeo Royalty Meet and Greet
DESCRIPTION:Get ready for a treat! You are cordially invited to a Meet & Greet with your current Delta County Fair and Rodeo Queen & Princess. This fun-filled ice cream social is the perfect opportunity for the community to come together and celebrate our local royalty. \nAre you or someone you know interested in becoming the next Royalty? This is the place to be! Come ask questions about the program\, learn what it takes to represent the Delta County Fair & Rodeo\, or simply hang out and enjoy some delicious ice cream. All are welcome to attend this family-friendly event hosted at Mimi’s Sweet Treats. \nEvent Details\n\n\nDate: Sunday\, April 19\, 2026 \n\n\nTime: 2:00 PM \n\n\nLocation: Mimi’s Sweet Treats\, 320 Main Street\, Delta\, CO 81416 \n\n\nCost: Free to attend; ice cream available for purchase \n\n\nWho: Open to everyone \n\n\n 
URL:https://deltacountycolorado.com/event/delta-county-fair-rodeo-royalty-meet-greet/
LOCATION:Mimi’s Sweet Treats\, 320 Main St\, Delta\, CO\, 81416
CATEGORIES:Agriculture,Community Talk,Rodeo
ATTACH;FMTTYPE=image/png:https://deltacountycolorado.com/wp-content/uploads/2026/04/Haining-DCF-Royalty-Ice-Cream-Social.png
ORGANIZER;CN="Delta County Fair":MAILTO:rbates@deltacounty.com
END:VEVENT
BEGIN:VEVENT
DTSTART;TZID=America/Denver:20260408T170000
DTEND;TZID=America/Denver:20260408T200000
DTSTAMP:20260423T095027
CREATED:20260402T174604Z
LAST-MODIFIED:20260402T174604Z
UID:10006295-1775667600-1775678400@deltacountycolorado.com
SUMMARY:VOGA Farmers Social
DESCRIPTION:The Valley Organic Growers Association (VOGA) invites you to our monthly Farmers Social! This recurring community gathering takes place on the second Wednesday of every month\, providing a vital space for farmers\, ranchers\, producers\, families\, and friends to connect. \nJoin us on Wednesday\, April 8th\, at the beautiful Cobblestone Farm in Hotchkiss. This is a Potluck Gathering\, so please bring a dish or a drink to share! Whether you are looking to talk shop about local agriculture or simply enjoy a great meal with neighbors\, we look forward to an evening of conversation\, food\, and community connection. \n\nEvent Details\n\n\nDate: Wednesday\, April 8\, 2026 \n\n\nTime: 5:00 PM – 8:00 PM \n\n\nLocation: Cobblestone Farm\, 35294 Hanson Mesa Rd\, Hotchkiss\, CO \n\n\nFormat: Potluck (Please bring a dish or drink to share!) \n\n\nWho: Farmers\, ranchers\, producers\, families\, and friends \n\n\nMore Info: vogaco.org
URL:https://deltacountycolorado.com/event/voga-farmers-social/
LOCATION:Hotchkiss\, CO\, Hotchkiss\, CO\, 81419
CATEGORIES:Agriculture,Family Friendly,Food,Free Community Event
ATTACH;FMTTYPE=image/jpeg:https://deltacountycolorado.com/wp-content/uploads/2026/04/Voga-Farmers-Social.jpg
END:VEVENT
BEGIN:VEVENT
DTSTART;TZID=America/Denver:20260329T110000
DTEND;TZID=America/Denver:20260329T160000
DTSTAMP:20260423T095027
CREATED:20260304T203945Z
LAST-MODIFIED:20260304T203945Z
UID:10006270-1774782000-1774800000@deltacountycolorado.com
SUMMARY:Wrich Ranches Open House
DESCRIPTION:Begin your epic love story at the ranch! Join us for a special Open House at The Barns at Wrich Ranches on Sunday\, March 29\, 2026\, from 11:00 AM to 4:00 PM in scenic Crawford\, Colorado. This 160-acre regenerative cattle ranch offers a breathtaking backdrop for weddings and events of all sizes\, featuring versatile metal-sided barns perfect for both intimate gatherings and large celebrations. \nDuring the open house\, experience our unique onsite lodging options firsthand\, including the spacious Ranch House (sleeps 12)\, the cozy Foreman’s Quarters (sleeps 4)\, and the one-of-a-kind Sheep Camp (sleeps 4). Come explore the property\, meet our team\, and see why our working ranch is the ideal destination for your next milestone moment
URL:https://deltacountycolorado.com/event/wrich-ranches-open-house/
LOCATION:Wrich Ranches\, 36965 Fruitland Mesa RD\, Crawford\, CO\, 81415
CATEGORIES:Agriculture,Free Community Event,Home Tour,Open House
ATTACH;FMTTYPE=image/jpeg:https://deltacountycolorado.com/wp-content/uploads/2026/03/Wrich-Ranches-Open-House.jpg
ORGANIZER;CN="Wrich Ranches":MAILTO:wrichranches@gmail.com
END:VEVENT
BEGIN:VEVENT
DTSTART;TZID=America/Denver:20260328T110000
DTEND;TZID=America/Denver:20260328T140000
DTSTAMP:20260423T095027
CREATED:20260120T172214Z
LAST-MODIFIED:20260120T172214Z
UID:10006170-1774695600-1774706400@deltacountycolorado.com
SUMMARY:Delta County Ag Day Community BBQ
DESCRIPTION:Delta County Ag Day: A Community Celebration\nJoin us as we celebrate the heart of our community! Delta County Ag Day is a special event presented by the Delta Cattlewomen and Delta County Bred & Fed\, Inc. to honor our local agricultural heritage. \nCome down to Sisson’s Feed & Ranch on Saturday\, March 28\, 2026\, for a delicious community lunch. We will be serving: \n\n\nFree Burgers provided by the Delta Cattlewomen. \n\n\nDessert provided by the DCBF Youth Producer Program. \n\nPetting Zoo\n\nFood will be served from 11:00 AM to 2:00 PM\, or until it’s all gone! While the meal is free\, donations are greatly appreciated and help support our local agricultural programs. \nLocation: 639 Main Street\, Delta\, CO 81416.
URL:https://deltacountycolorado.com/event/delta-county-ag-day-community-bbq/
LOCATION:Sissons Feed and Ranch\, 639 Main St\, Delta\, CO\, United States
CATEGORIES:Agriculture,America 250- Colorado 150,Food,Free Community Event
ATTACH;FMTTYPE=image/jpeg:https://deltacountycolorado.com/wp-content/uploads/2026/01/DCBF-ag-day.jpg
ORGANIZER;CN="Delta County Bred & Fed%2C Inc.":MAILTO:dcbredandfed@gmail.com
END:VEVENT
BEGIN:VEVENT
DTSTART;TZID=America/Denver:20260325T173000
DTEND;TZID=America/Denver:20260325T190000
DTSTAMP:20260423T095027
CREATED:20260318T153517Z
LAST-MODIFIED:20260318T153517Z
UID:10006283-1774459800-1774465200@deltacountycolorado.com
SUMMARY:Pete McBride at Paonia Books
DESCRIPTION:We are delighted to welcome Pete McBride back to Paonia for a reading and presentation of his new book\, Witness to Water: One Photographer’s Mission to Defend the Colorado River.\nA breathtaking journey down the lifeblood of the American West \nFrom the crystalline headwaters of the Rocky Mountains to its shocking demise in a foamy\, polluted pit in the Sonoran Desert\, the Colorado River’s story is one of both epic beauty and profound loss. \nIn this deeply personal and visually stunning narrative\, acclaimed photographer and filmmaker Pete McBride sets out to document the lifeblood of the American West. What begins as an assignment close to his childhood home transforms into a twenty-year odyssey that will change him forever. By packraft\, on foot\, and from the cockpit of his father’s small plane\, McBride bears witness to the river’s grandeur—and the staggering scale of its exploitation. \nMore than a travelogue\, Witness to Water is a moving elegy and an urgent plea. It is the story of a river that no longer reaches the sea\, and a powerful reminder of the fragile natural systems we too often take for granted. This book is an unforgettable portrait of a river in peril\, and a testament to what we stand to lose when we ask too much of the world that sustains us. Yet within its pages also lies a current of hope—not just for the Colorado\, but for the countless rivers worldwide upon which our lives depend. \nWednesday March 25th\, 2026\, at 5.30 in the KVNF Community Room. This event is free\, with no registration required and sponsored by Paonia Literary Project\, the nonprofit arm of Paonia Books. Book signing afterward at the Paonia Books where copies of Witness to Water are in stock now.
URL:https://deltacountycolorado.com/event/pete-mcbride-at-paonia-books/
LOCATION:Paonia\, Paonia\, CO\, 81428
CATEGORIES:Agriculture,Arts & Culture
ATTACH;FMTTYPE=image/jpeg:https://deltacountycolorado.com/wp-content/uploads/2026/03/Pete-McBride.jpg
END:VEVENT
BEGIN:VEVENT
DTSTART;VALUE=DATE:20260321
DTEND;VALUE=DATE:20260323
DTSTAMP:20260423T095027
CREATED:20260203T165227Z
LAST-MODIFIED:20260203T165227Z
UID:10006238-1774051200-1774223999@deltacountycolorado.com
SUMMARY:Eckert Crane Days 2026
DESCRIPTION:Witness one of nature’s most magnificent spectacles at Eckert Crane Days 2026. Held on March 21–22\, this event celebrates the annual Migration of the Sandhill Cranes as they gather at the Fruitgrowers Reservoir in Eckert\, Colorado. \nWhether you are an avid birder or a family looking for a unique outdoor experience\, come see these majestic birds with their distinct red crowns and impressive wingspans as they rest during their journey. This event is proudly supported by the Black Canyon Audubon Society and Western States Ranches. For a full schedule of activities\, please visit the official Eckert Crane Days Facebook page.
URL:https://deltacountycolorado.com/event/eckert-crane-days/
LOCATION:Fruitgrowers Reservoir\, Orchard City\, CO
CATEGORIES:Agriculture,America 250- Colorado 150,Bird Watching,Outdoor
ATTACH;FMTTYPE=image/jpeg:https://deltacountycolorado.com/wp-content/uploads/2026/02/Eckert-Crane-Days_2026_11x8.5_FINAL-2.jpg
END:VEVENT
BEGIN:VEVENT
DTSTART;TZID=America/Denver:20260315T160000
DTEND;TZID=America/Denver:20260315T180000
DTSTAMP:20260423T095027
CREATED:20260211T210620Z
LAST-MODIFIED:20260211T210620Z
UID:10006241-1773590400-1773597600@deltacountycolorado.com
SUMMARY:Western Slope Conservation Center- Annual Meeting
DESCRIPTION:Western Slope Conservation Center Annual Meeting — March 15th! \n\nJoin the Western Slope Conservation Center for our Annual Meeting 2026 on March 15th at 4:00 PM. This year’s gathering will be held at the Hotchkiss Memorial Hall and features a special presentation by guest speaker and author Heather Hansman. Come together with fellow community members to celebrate our conservation achievements\, discuss upcoming initiatives for our local watersheds and public lands\, and hear from one of the region’s most compelling voices on environmental issues. Whether you are a longtime member or new to the area\, we welcome you to join the conversation about protecting the landscapes we love.
URL:https://deltacountycolorado.com/event/western-slope-conservation-center-annual-meeting/
LOCATION:Memorial Hall\, 175 1st St.\, Hotchkiss\, CO\, 81419
CATEGORIES:Agriculture,Community Talk,Water Events
ATTACH;FMTTYPE=image/jpeg:https://deltacountycolorado.com/wp-content/uploads/2026/02/WSCC-Annual.jpg
ORGANIZER;CN="Western Slope Conservation Center":MAILTO:info@theconservationcenter.org
END:VEVENT
BEGIN:VEVENT
DTSTART;TZID=America/Denver:20260308T120000
DTEND;TZID=America/Denver:20260308T150000
DTSTAMP:20260423T095027
CREATED:20260115T205219Z
LAST-MODIFIED:20260115T205219Z
UID:10006165-1772971200-1772982000@deltacountycolorado.com
SUMMARY:Delta County 4-H Beef Roast
DESCRIPTION:Come hungry and support our local youth at the annual Delta County 4-H Beef Roast. This year\, we are hosting the event at two convenient locations to serve our community better. \n\n\nDate: March 58 2023 \n\n\nTime: 12:00 PM – 3:00 PM \n\n\nLocations: * Delta Middle School \n\n\nNorth Fork High School \n\n\n\n\nOn the Menu: Enjoy a hearty meal featuring Beef and/or Pork\, potatoes & gravy\, coleslaw\, a fresh vegetable\, cheesecake for dessert\, and a beverage. \nTicket Information: \n\n\nAdults: $15 \n\n\nChildren (12 & under): $10 \n\n\nFor more information\, please contact the office at 970-874-2195. We look forward to seeing you there! \n 
URL:https://deltacountycolorado.com/event/delta-county-4-h-beef-roast/
LOCATION:Delta Middle School\, 401 E 10th St\, Delta\, CO\, 81416
CATEGORIES:Agriculture,Family Friendly,Food,Fundraiser
ATTACH;FMTTYPE=image/png:https://deltacountycolorado.com/wp-content/uploads/2026/01/Beef-Roast.png
END:VEVENT
BEGIN:VEVENT
DTSTART;TZID=America/Denver:20260226T130000
DTEND;TZID=America/Denver:20260226T150000
DTSTAMP:20260423T095027
CREATED:20260218T205305Z
LAST-MODIFIED:20260218T205305Z
UID:10006260-1772110800-1772118000@deltacountycolorado.com
SUMMARY:Apple Care and Pruning Workshop
DESCRIPTION:Enhance your orchard’s productivity at the Apple Care and Pruning Workshop hosted by the Western Colorado Research Center – Rogers Mesa. Join expert research center orchardist Bryan Braddy on Thursday\, February 26th\, from 1:00 PM to 3:00 PM for a comprehensive afternoon session. \nThis hybrid event features an indoor presentation followed by hands-on pruning demonstrations in the field. Key topics include planting\, soil health\, pruning\, pest and disease management\, fruit thinning\, and harvest techniques. The workshop is free to attend\, and refreshments will be provided. A virtual option is also available for those unable to attend in person at the Hotchkiss facility.
URL:https://deltacountycolorado.com/event/apple-care-and-pruning-workshop/
LOCATION:Western Colorado Research Center – Rogers Mesa\, 30624 Hwy 92\, Hotchkiss\, CO\, 81419\, United States
CATEGORIES:Agriculture,Community Class
ATTACH;FMTTYPE=image/jpeg:https://deltacountycolorado.com/wp-content/uploads/2026/02/WCRC.jpg
END:VEVENT
BEGIN:VEVENT
DTSTART;TZID=America/Denver:20260214T180000
DTEND;TZID=America/Denver:20260214T210000
DTSTAMP:20260423T095027
CREATED:20260122T194604Z
LAST-MODIFIED:20260122T194604Z
UID:10006174-1771092000-1771102800@deltacountycolorado.com
SUMMARY:Honey Rock Landing Valentines Day  Harvest Celebration
DESCRIPTION:This Valentine’s Harvest Dinner Celebration is for everyone! Whether you are celebrating with a partner\, embracing Galentine’s Day or Guyentine’s Day\, flying solo\, or gathering a group of friends\, you are warmly invited. \nSeating is limited to fewer than 30 guests\, so be sure to reserve your seat today.\n\n\n\n\n\n\n\n\n RESERVE YOUR SEAT! 
URL:https://deltacountycolorado.com/event/honey-rock-landing-valentines-day-harvest-celebration/
LOCATION:Honey Rock Landing\, 2444 Dominguez Canyon Rd\, Delta\, CO\, 81416\, United States
CATEGORIES:Agriculture,Food,Holiday Event
ATTACH;FMTTYPE=image/png:https://deltacountycolorado.com/wp-content/uploads/2026/01/Honey-Rock.png
END:VEVENT
END:VCALENDAR