BEGIN:VCALENDAR
VERSION:2.0
PRODID:-//Delta County Tourism - ECPv6.15.20//NONSGML v1.0//EN
CALSCALE:GREGORIAN
METHOD:PUBLISH
X-WR-CALNAME:Delta County Tourism
X-ORIGINAL-URL:https://deltacountycolorado.com
X-WR-CALDESC:Events for Delta County Tourism
REFRESH-INTERVAL;VALUE=DURATION:PT1H
X-Robots-Tag:noindex
X-PUBLISHED-TTL:PT1H
BEGIN:VTIMEZONE
TZID:America/Denver
BEGIN:DAYLIGHT
TZOFFSETFROM:-0700
TZOFFSETTO:-0600
TZNAME:MDT
DTSTART:20250309T090000
END:DAYLIGHT
BEGIN:STANDARD
TZOFFSETFROM:-0600
TZOFFSETTO:-0700
TZNAME:MST
DTSTART:20251102T080000
END:STANDARD
BEGIN:DAYLIGHT
TZOFFSETFROM:-0700
TZOFFSETTO:-0600
TZNAME:MDT
DTSTART:20260308T090000
END:DAYLIGHT
BEGIN:STANDARD
TZOFFSETFROM:-0600
TZOFFSETTO:-0700
TZNAME:MST
DTSTART:20261101T080000
END:STANDARD
BEGIN:DAYLIGHT
TZOFFSETFROM:-0700
TZOFFSETTO:-0600
TZNAME:MDT
DTSTART:20270314T090000
END:DAYLIGHT
BEGIN:STANDARD
TZOFFSETFROM:-0600
TZOFFSETTO:-0700
TZNAME:MST
DTSTART:20271107T080000
END:STANDARD
END:VTIMEZONE
BEGIN:VEVENT
DTSTART;VALUE=DATE:20260524
DTEND;VALUE=DATE:20260527
DTSTAMP:20260423T174705
CREATED:20260312T182724Z
LAST-MODIFIED:20260312T182724Z
UID:10006278-1779580800-1779839999@deltacountycolorado.com
SUMMARY:Folk & Roots Rendezvous- Big B's Delicious Orchards
DESCRIPTION:Celebrate Memorial Day Weekend at the Folk ‘n Roots Rendezvous\, a premier three-day music festival hosted by Big B’s Delicious Orchards in Hotchkiss\, Colorado. This family-friendly event features three days of free live music set against the beautiful backdrop of the orchard. Attendees can enjoy a full weekend of campouts under starry nights\, fruitwood-smoked BBQ\, refreshing hard cider\, and fresh juices. \nThe festival kicks off Friday evening and continues through Sunday with a diverse lineup including Stillhouse Junkies\, The Steel Wheels\, and Mama Lingua\, along with interactive activities like Contra Dancing and a Beginners Bluegrass Jam. With kids’ activities and late-night picking around the campfire\, it is the perfect way to welcome the spring season in the North Fork Valley.
URL:https://deltacountycolorado.com/event/folk-roots-renzvous/
LOCATION:Big B’s Delicious Orchards U-pick\, Cafe & Tasting Room\, 39126 CO-133\, Hotchkiss\, CO\, 81419
CATEGORIES:Agriculture,Arts & Culture,Camping,Festivals,Live Music
ATTACH;FMTTYPE=image/jpeg:https://deltacountycolorado.com/wp-content/uploads/2026/03/Folk-Roots.jpg
END:VEVENT
BEGIN:VEVENT
DTSTART;TZID=America/Denver:20260526T170000
DTEND;TZID=America/Denver:20260526T193000
DTSTAMP:20260423T174705
CREATED:20260416T172135Z
LAST-MODIFIED:20260416T172135Z
UID:10006344-1779814800-1779823800@deltacountycolorado.com
SUMMARY:Arbol Farmers Market- Summer
DESCRIPTION:The heart of Paonia’s local food scene is back! Starting May 12th\, the Arbol Farmers Market returns to Town Park for the summer season. Join us every Tuesday from 5:00 PM – 7:30 PM to celebrate our local growers\, makers\, and artisans. \nWe are kicking off the season in style with live music and a fantastic lineup of both new and returning vendors. Whether you’re looking for the freshest seasonal produce\, handmade crafts\, or a vibrant community atmosphere to spend your Tuesday evenings\, Arbol Farmers Market is the place to be. \n  \nEvent Details\nWhen: Every Tuesday\, starting May 12th \nTime: 5:00 PM – 7:30 PM \nLocation: Paonia Town Park \nFeatures: Live Music\, Local Produce\, Handcrafted Goods\, and New Vendors
URL:https://deltacountycolorado.com/event/arbol-farmers-market-summer/2026-05-26/
LOCATION:Paonia Town Park\, 700 4th St.\, Paonia\, CO\, 81428
CATEGORIES:Agriculture,Farmers Market
ATTACH;FMTTYPE=image/png:https://deltacountycolorado.com/wp-content/uploads/2026/04/Arbol.png
END:VEVENT
BEGIN:VEVENT
DTSTART;TZID=America/Denver:20260527T083000
DTEND;TZID=America/Denver:20260527T130000
DTSTAMP:20260423T174705
CREATED:20260416T173020Z
LAST-MODIFIED:20260416T173020Z
UID:10006422-1779870600-1779886800@deltacountycolorado.com
SUMMARY:Delta CO Farmers Market & Bazaar
DESCRIPTION:Welcome to the 2026 season of the Delta Farmers Market & Bazaar\, now in an exciting NEW LOCATION! Join us at the Haven House Thrift Store (the old Summers Motors) for a vibrant community experience that is truly “in the middle of everywhere”. \nThis year\, we are celebrating our new space with more vendors and more fresh produce than ever before. Browse a diverse selection of locally grown fruits and vegetables\, handmade crafts\, and unique artisan products. Beyond the fresh finds\, our Market Bazaar is a treasure hunter’s dream\, featuring antiques\, collectibles\, and fine art. Whether you’re looking for the perfect gift\, garden starts\, or your weekly groceries\, the Delta Farmers Market & Bazaar is your one-stop shop for local quality. \nEvent Details\nSeason Dates: May 2nd – October 31st\, 2026 \nSaturday Hours: 8:30 AM – 1:00 PM (May through October) \nWednesday Hours: 8:30 AM – 1:00 PM (June through August only) \nLocation: 2195 Southgate Lane\, Delta\, CO (South of Value Lodge on Hwy 50) \nFeatured Vendors: Barajas Dream Orchard\, Twilight Coffee Roasters\, McBees Farm\, and more!
URL:https://deltacountycolorado.com/event/delta-co-farmers-market-bazaar/2026-05-27/
LOCATION:Delta CO Farmers Market & Bazaar\, 2195 South Gate Lane\, Delta\, CO\, 81416\, United States
CATEGORIES:Agriculture,Farmers Market
ATTACH;FMTTYPE=image/png:https://deltacountycolorado.com/wp-content/uploads/2026/04/Delta-farmers-market-scaled.png
ORGANIZER;CN="Delta Farmers Market":MAILTO:deltacofarmersmarket@gmail.com
END:VEVENT
BEGIN:VEVENT
DTSTART;TZID=America/Denver:20260529T180000
DTEND;TZID=America/Denver:20260529T210000
DTSTAMP:20260423T174705
CREATED:20260416T192005Z
LAST-MODIFIED:20260416T192005Z
UID:10006472-1780077600-1780088400@deltacountycolorado.com
SUMMARY:2026 Friday Nights Live in the Orchard- Big B's
DESCRIPTION:Get ready for the ultimate summer tradition! Big B’s Delicious Orchards and Pickin’ Productions are proud to present the 2026 Friday Nights Live in the Orchard free concert series. Spanning 24 incredible nights from May through October\, this series brings world-class music to the heart of the North Fork Valley. \nEvery Friday kicks off at 6:00 PM with DJ REMAY\, followed by the main stage showtime at 7:30 PM. Whether you’re coming for the folk\, rock\, reggae\, or bluegrass\, you’ll find a vibrant dance floor tucked among the fruit trees. Enjoy on-site amenities including a full cafe and bar\, plus camping options for those who want to stay the night. To make your visit easy\, a free shuttle starts at 6:00 PM. Please note there is a $10 parking fee which directly benefits local nonprofits. \nEvent Details\nWhen: Every Friday Night\, May 1 – October 10\, 2026 \nTime: 6:00 PM (DJ) | 7:30 PM (Main Act) \nLocation: Big B’s Delicious Orchards \nAddress: 39126 Hwy 133\, Hotchkiss\, CO \nAdmission: FREE Concert Series ($10 parking fee benefits nonprofits) \nAmenities: Cafe\, Bar\, Camping\, and Free Shuttle
URL:https://deltacountycolorado.com/event/2026-friday-nights-live-in-the-orchard-big-bs/2026-05-29/
LOCATION:Big B’s Delicious Orchards U-pick\, Cafe & Tasting Room\, 39126 CO-133\, Hotchkiss\, CO\, 81419
CATEGORIES:Agriculture,Camping,Live Music
ATTACH;FMTTYPE=image/jpeg:https://deltacountycolorado.com/wp-content/uploads/2026/04/Big-B-2026-Line-up.jpg
ORGANIZER;CN="Big B's":MAILTO:info@bigbs.com
END:VEVENT
BEGIN:VEVENT
DTSTART;VALUE=DATE:20260530
DTEND;VALUE=DATE:20260601
DTSTAMP:20260423T174705
CREATED:20260316T193545Z
LAST-MODIFIED:20260316T193545Z
UID:10006282-1780099200-1780271999@deltacountycolorado.com
SUMMARY:The 24th Annual Riverfest presented by Western Slope Conservation Center and The Learning Council 
DESCRIPTION:  \nCelebrate the lifeblood of our valley at the 24th Annual Riverfest\, happening Saturday\, May 30\, 2026\, at the beautiful Paonia River Park. Presented by the Western Slope Conservation Center and The Learning Council\, this landmark community event brings together neighbors and visitors to honor our local waterways. \nThe day is packed with entertainment for all ages\, including live music\, delicious local food\, and engaging river-themed activities. Don’t miss the silent auction\, which directly supports conservation and educational programming in the North Fork Valley. Whether you’re here to dance by the riverbank or learn more about our local ecosystem\, Riverfest is the ultimate kick-off to the summer season!
URL:https://deltacountycolorado.com/event/the-24th-annual-riverfest-presented-by-western-slope-conservation-center-and-the-learning-council/
LOCATION:Paonia River Park
CATEGORIES:Agriculture,Family Friendly,Live Music,Water Events
ATTACH;FMTTYPE=image/png:https://deltacountycolorado.com/wp-content/uploads/2026/03/riverfest-e1773689732652.png
ORGANIZER;CN="Western Slope Conservation Center":MAILTO:info@theconservationcenter.org
GEO:38.87539;-107.59567
END:VEVENT
BEGIN:VEVENT
DTSTART;TZID=America/Denver:20260530T070000
DTEND;TZID=America/Denver:20260530T170000
DTSTAMP:20260423T174705
CREATED:20260409T212838Z
LAST-MODIFIED:20260409T213504Z
UID:10006302-1780124400-1780160400@deltacountycolorado.com
SUMMARY:30th Annual June Classic Jackpot Livestock Show
DESCRIPTION:Get ready for the longest-running jackpot on the Western Slope! We are proud to present the June Classic Jackpot Show on May 30\, 2026\, at the Delta County Fairgrounds in Hotchkiss\, CO. This year\, we are celebrating a massive milestone—30 years of tradition\, competition\, and excellence in youth livestock showing! \nThis event features a full day of market and breeding classes for swine\, lamb\, goats\, and beef\, including the Delta County Bred & Fed (DCBF) Youth Producer classes. Whether you are aiming for a Grand Champion belt buckle or just starting in Pee Wee Showmanship\, this show offers a professional yet welcoming environment for all exhibitors.  Miniature cattle breeds are welcome! Come hungry\, as a concession stand will be open for breakfast and lunch. \n\nEvent Schedule & Details\n\n\nDate: Saturday\, May 30\, 2026 \n\n\nLocation: Delta County Fairgrounds\, Hotchkiss\, CO \n\n\nWeigh-In Times: * Swine: 7:00–8:30 AM (Show at 10 AM) \n\n\nLamb: 8:30–9:30 AM (Show at 10:30 AM) \n\n\nGoat: 9:30–10:30 AM (Show follows Lambs) \n\n\nBeef/Breeding Heifer: 10:30–11:30 AM (Show follows Swine/Market Beef) \n\n\n\n\nAwards: Grand & Reserve Champion buckles plus cash prizes ($100–$150)\, belt buckles for Breeding Heifer\, Showmanship\, and DCBF Youth Producers.
URL:https://deltacountycolorado.com/event/30th-annual-june-classic-jackpot-livestock-show/
LOCATION:Delta County Fairgrounds\, 403 S. 4th St.\, Hotchkiss\, CO\, 81416
CATEGORIES:Agriculture
ATTACH;FMTTYPE=image/png:https://deltacountycolorado.com/wp-content/uploads/2026/04/June-Classic-2026.png
ORGANIZER;CN="Delta County Bred & Fed%2C Inc.":MAILTO:dcbredandfed@gmail.com
END:VEVENT
BEGIN:VEVENT
DTSTART;TZID=America/Denver:20260530T083000
DTEND;TZID=America/Denver:20260530T130000
DTSTAMP:20260423T174705
CREATED:20260416T173020Z
LAST-MODIFIED:20260416T173020Z
UID:10006423-1780129800-1780146000@deltacountycolorado.com
SUMMARY:Delta CO Farmers Market & Bazaar
DESCRIPTION:Welcome to the 2026 season of the Delta Farmers Market & Bazaar\, now in an exciting NEW LOCATION! Join us at the Haven House Thrift Store (the old Summers Motors) for a vibrant community experience that is truly “in the middle of everywhere”. \nThis year\, we are celebrating our new space with more vendors and more fresh produce than ever before. Browse a diverse selection of locally grown fruits and vegetables\, handmade crafts\, and unique artisan products. Beyond the fresh finds\, our Market Bazaar is a treasure hunter’s dream\, featuring antiques\, collectibles\, and fine art. Whether you’re looking for the perfect gift\, garden starts\, or your weekly groceries\, the Delta Farmers Market & Bazaar is your one-stop shop for local quality. \nEvent Details\nSeason Dates: May 2nd – October 31st\, 2026 \nSaturday Hours: 8:30 AM – 1:00 PM (May through October) \nWednesday Hours: 8:30 AM – 1:00 PM (June through August only) \nLocation: 2195 Southgate Lane\, Delta\, CO (South of Value Lodge on Hwy 50) \nFeatured Vendors: Barajas Dream Orchard\, Twilight Coffee Roasters\, McBees Farm\, and more!
URL:https://deltacountycolorado.com/event/delta-co-farmers-market-bazaar/2026-05-30/
LOCATION:Delta CO Farmers Market & Bazaar\, 2195 South Gate Lane\, Delta\, CO\, 81416\, United States
CATEGORIES:Agriculture,Farmers Market
ATTACH;FMTTYPE=image/png:https://deltacountycolorado.com/wp-content/uploads/2026/04/Delta-farmers-market-scaled.png
ORGANIZER;CN="Delta Farmers Market":MAILTO:deltacofarmersmarket@gmail.com
END:VEVENT
END:VCALENDAR