BEGIN:VCALENDAR
VERSION:2.0
PRODID:-//Delta County Tourism - ECPv6.15.20//NONSGML v1.0//EN
CALSCALE:GREGORIAN
METHOD:PUBLISH
X-WR-CALNAME:Delta County Tourism
X-ORIGINAL-URL:https://deltacountycolorado.com
X-WR-CALDESC:Events for Delta County Tourism
REFRESH-INTERVAL;VALUE=DURATION:PT1H
X-Robots-Tag:noindex
X-PUBLISHED-TTL:PT1H
BEGIN:VTIMEZONE
TZID:America/Denver
BEGIN:DAYLIGHT
TZOFFSETFROM:-0700
TZOFFSETTO:-0600
TZNAME:MDT
DTSTART:20250309T090000
END:DAYLIGHT
BEGIN:STANDARD
TZOFFSETFROM:-0600
TZOFFSETTO:-0700
TZNAME:MST
DTSTART:20251102T080000
END:STANDARD
BEGIN:DAYLIGHT
TZOFFSETFROM:-0700
TZOFFSETTO:-0600
TZNAME:MDT
DTSTART:20260308T090000
END:DAYLIGHT
BEGIN:STANDARD
TZOFFSETFROM:-0600
TZOFFSETTO:-0700
TZNAME:MST
DTSTART:20261101T080000
END:STANDARD
BEGIN:DAYLIGHT
TZOFFSETFROM:-0700
TZOFFSETTO:-0600
TZNAME:MDT
DTSTART:20270314T090000
END:DAYLIGHT
BEGIN:STANDARD
TZOFFSETFROM:-0600
TZOFFSETTO:-0700
TZNAME:MST
DTSTART:20271107T080000
END:STANDARD
END:VTIMEZONE
BEGIN:VEVENT
DTSTART;TZID=America/Denver:20260307T100000
DTEND;TZID=America/Denver:20260307T140000
DTSTAMP:20260422T025658
CREATED:20260217T180644Z
LAST-MODIFIED:20260217T180750Z
UID:10006252-1772877600-1772892000@deltacountycolorado.com
SUMMARY:The Build Guild  presents Sand Casting Ceramic Sculptures into Metal
DESCRIPTION:The Build Guild presents a unique two-part workshop: Sand Casting Ceramic Sculptures Into Metal. Led by local metalsmith Ira Houseweart and ceramic artist Ivy Hunter\, this hands-on experience invites participants to create forms inspired by the North Fork Valley—think birds\, bugs\, fruits\, cows\, and antlers. \n\n\nPart 1 (March 7th\, 10 am–2 pm): Meet at The Hearth in Paonia to sculpt your clay figures. \n\n\nPart 2 (March 21st\, Noon–4 pm): Gather at Ira’s FORGE on Roger’s Mesa to transform your clay designs into metal using sand casting. \n\n\nThis all-ages\, beginner-friendly workshop is offered on a gift model: $40/day includes a meal and workshop\, or $25/day for just the workshop. No one is turned away for lack of funds.
URL:https://deltacountycolorado.com/event/the-build-guild-presents-sand-casting-ceramic-sculptures-into-metal/2026-03-07/
LOCATION:The Hearth\, 138 Grand Ave\, Paonia\, CO
CATEGORIES:Arts & Crafts
ATTACH;FMTTYPE=image/jpeg:https://deltacountycolorado.com/wp-content/uploads/2026/02/Learning-Council.jpg
END:VEVENT
BEGIN:VEVENT
DTSTART;TZID=America/Denver:20260320T090000
DTEND;TZID=America/Denver:20260320T180000
DTSTAMP:20260422T025658
CREATED:20260219T174212Z
LAST-MODIFIED:20260219T174212Z
UID:10006262-1773997200-1774029600@deltacountycolorado.com
SUMMARY:Cabin Fever Quilt Show presented by S&B Quilters Guild
DESCRIPTION:Experience a celebration of textile artistry at the 2026 Cabin Fever Quilt Show\, presented by the S&B Quilters’ Guild. This two-day event takes place Friday\, March 20\, and Saturday\, March 21\, from 9:00 AM to 6:00 PM at Heritage Hall within the Delta County Fairgrounds in Hotchkiss. \nVisitors can explore stunning displays of quilts and handcrafted quilted items\, browse unique offerings from regional vendors\, and shop the guild’s specialized boutique. The event also features educational demonstrations\, door prizes\, and homemade refreshments available for purchase at the Calico Café. Don’t miss the chance to view the 2026 raffle quilt\, “On Wander Lane\,” a beautiful $79″ x 96″$ piece designed by Nancy Halvorsen. Admission is free\, though donations to support the guild’s mission are gladly accepted. \n 
URL:https://deltacountycolorado.com/event/cabin-fever-quilt-show-presented-by-sb-quilters-guild/2026-03-20/
LOCATION:Heritage Hall\, 403 S. 4th St.\, Hotchkiss\, CO\, 81419
CATEGORIES:Arts & Crafts
ATTACH;FMTTYPE=image/jpeg:https://deltacountycolorado.com/wp-content/uploads/2026/02/Quilt.jpg
ORGANIZER;CN="S & B Quilters Guild":MAILTO:sbquilters1989@gmail.com
END:VEVENT
BEGIN:VEVENT
DTSTART;TZID=America/Denver:20260321T090000
DTEND;TZID=America/Denver:20260321T180000
DTSTAMP:20260422T025658
CREATED:20260219T174212Z
LAST-MODIFIED:20260219T174212Z
UID:10006263-1774083600-1774116000@deltacountycolorado.com
SUMMARY:Cabin Fever Quilt Show presented by S&B Quilters Guild
DESCRIPTION:Experience a celebration of textile artistry at the 2026 Cabin Fever Quilt Show\, presented by the S&B Quilters’ Guild. This two-day event takes place Friday\, March 20\, and Saturday\, March 21\, from 9:00 AM to 6:00 PM at Heritage Hall within the Delta County Fairgrounds in Hotchkiss. \nVisitors can explore stunning displays of quilts and handcrafted quilted items\, browse unique offerings from regional vendors\, and shop the guild’s specialized boutique. The event also features educational demonstrations\, door prizes\, and homemade refreshments available for purchase at the Calico Café. Don’t miss the chance to view the 2026 raffle quilt\, “On Wander Lane\,” a beautiful $79″ x 96″$ piece designed by Nancy Halvorsen. Admission is free\, though donations to support the guild’s mission are gladly accepted. \n 
URL:https://deltacountycolorado.com/event/cabin-fever-quilt-show-presented-by-sb-quilters-guild/2026-03-21/
LOCATION:Heritage Hall\, 403 S. 4th St.\, Hotchkiss\, CO\, 81419
CATEGORIES:Arts & Crafts
ATTACH;FMTTYPE=image/jpeg:https://deltacountycolorado.com/wp-content/uploads/2026/02/Quilt.jpg
ORGANIZER;CN="S & B Quilters Guild":MAILTO:sbquilters1989@gmail.com
END:VEVENT
BEGIN:VEVENT
DTSTART;TZID=America/Denver:20260321T120000
DTEND;TZID=America/Denver:20260321T160000
DTSTAMP:20260422T025658
CREATED:20260217T180644Z
LAST-MODIFIED:20260217T180750Z
UID:10006253-1774094400-1774108800@deltacountycolorado.com
SUMMARY:The Build Guild  presents Sand Casting Ceramic Sculptures into Metal
DESCRIPTION:The Build Guild presents a unique two-part workshop: Sand Casting Ceramic Sculptures Into Metal. Led by local metalsmith Ira Houseweart and ceramic artist Ivy Hunter\, this hands-on experience invites participants to create forms inspired by the North Fork Valley—think birds\, bugs\, fruits\, cows\, and antlers. \n\n\nPart 1 (March 7th\, 10 am–2 pm): Meet at The Hearth in Paonia to sculpt your clay figures. \n\n\nPart 2 (March 21st\, Noon–4 pm): Gather at Ira’s FORGE on Roger’s Mesa to transform your clay designs into metal using sand casting. \n\n\nThis all-ages\, beginner-friendly workshop is offered on a gift model: $40/day includes a meal and workshop\, or $25/day for just the workshop. No one is turned away for lack of funds.
URL:https://deltacountycolorado.com/event/the-build-guild-presents-sand-casting-ceramic-sculptures-into-metal/2026-03-21/
LOCATION:The Hearth\, 138 Grand Ave\, Paonia\, CO
CATEGORIES:Arts & Crafts
ATTACH;FMTTYPE=image/jpeg:https://deltacountycolorado.com/wp-content/uploads/2026/02/Learning-Council.jpg
END:VEVENT
END:VCALENDAR