BEGIN:VCALENDAR
VERSION:2.0
PRODID:-//Delta County Tourism - ECPv6.15.20//NONSGML v1.0//EN
CALSCALE:GREGORIAN
METHOD:PUBLISH
X-WR-CALNAME:Delta County Tourism
X-ORIGINAL-URL:https://deltacountycolorado.com
X-WR-CALDESC:Events for Delta County Tourism
REFRESH-INTERVAL;VALUE=DURATION:PT1H
X-Robots-Tag:noindex
X-PUBLISHED-TTL:PT1H
BEGIN:VTIMEZONE
TZID:America/Denver
BEGIN:DAYLIGHT
TZOFFSETFROM:-0700
TZOFFSETTO:-0600
TZNAME:MDT
DTSTART:20250309T090000
END:DAYLIGHT
BEGIN:STANDARD
TZOFFSETFROM:-0600
TZOFFSETTO:-0700
TZNAME:MST
DTSTART:20251102T080000
END:STANDARD
BEGIN:DAYLIGHT
TZOFFSETFROM:-0700
TZOFFSETTO:-0600
TZNAME:MDT
DTSTART:20260308T090000
END:DAYLIGHT
BEGIN:STANDARD
TZOFFSETFROM:-0600
TZOFFSETTO:-0700
TZNAME:MST
DTSTART:20261101T080000
END:STANDARD
BEGIN:DAYLIGHT
TZOFFSETFROM:-0700
TZOFFSETTO:-0600
TZNAME:MDT
DTSTART:20270314T090000
END:DAYLIGHT
BEGIN:STANDARD
TZOFFSETFROM:-0600
TZOFFSETTO:-0700
TZNAME:MST
DTSTART:20271107T080000
END:STANDARD
END:VTIMEZONE
BEGIN:VEVENT
DTSTART;VALUE=DATE:20260501
DTEND;VALUE=DATE:20260504
DTSTAMP:20260420T081534
CREATED:20260211T205805Z
LAST-MODIFIED:20260211T205805Z
UID:10006240-1777593600-1777852799@deltacountycolorado.com
SUMMARY:The 5th Annual Hestival - Big B's Delicious Orchards
DESCRIPTION:The 5th Annual HESTIVAL returns to Big B’s Delicious Orchards the weekend of May 1–3\, 2026! This year\, the event evolves into a purpose-driven festival in partnership with The Conservation Alliance\, celebrating and protecting the public lands where we play and camp. \nThe weekend features an incredible live music lineup including the Jeremy Garrett Bluegrass Band featuring Kyle Tuttle\, John Craigie\, and The Coffis Brothers. True to its roots\, HESTIVAL remains a family and dog-friendly experience filled with outdoor adventures\, local food\, and nights spent camping under the stars in blossoming apple orchards. A portion of every ticket sold will be donated to help raise awareness and advocacy for our treasured public land
URL:https://deltacountycolorado.com/event/the-5th-annual-hestival-big-bs-delicious-orchards/
LOCATION:Big B’s Delicious Orchards U-pick\, Cafe & Tasting Room\, 39126 CO-133\, Hotchkiss\, CO\, 81419
CATEGORIES:Arts & Culture,Camping,Festivals,Live Music
ATTACH;FMTTYPE=image/jpeg:https://deltacountycolorado.com/wp-content/uploads/2026/02/Hestival.jpg
ORGANIZER;CN="Big B's":MAILTO:info@bigbs.com
END:VEVENT
BEGIN:VEVENT
DTSTART;TZID=America/Denver:20260501T080000
DTEND;TZID=America/Denver:20260505T170000
DTSTAMP:20260420T081534
CREATED:20260414T175221Z
LAST-MODIFIED:20260414T175221Z
UID:10006338-1777622400-1778000400@deltacountycolorado.com
SUMMARY:The 52nd Annual Edge of Cedars Art Exhibit
DESCRIPTION:Experience a cornerstone of the Colorado art scene at the 52nd Annual Edge of Cedars Art Exhibit! Presented by Kevin Parks State Farm Insurance\, this prestigious showcase brings together talented artists from across the entire state of Colorado to display their work in the beautiful Bank of Colorado Theater. \nFrom traditional paintings to contemporary masterpieces\, this exhibit offers a diverse look at the high-altitude creativity our region is known for. The event is free and open to the public\, making it the perfect spring outing for art lovers and families alike. If you are an artist interested in showing your work\, there is still time to register! Visit our website or scan the QR code to join this historic Cedaredge tradition. \nEvent Details\nDates: May 1 – 5\, 2026 \nLocation: Bank of Colorado Theater at Grand Mesa Arts & Events Center \nAddress: 195 W. Main Street\, Cedaredge\, CO 81413 \nCost: Free and Open to the Public!
URL:https://deltacountycolorado.com/event/the-52nd-annual-edge-of-cedars-art-exhibit/
LOCATION:Grand Mesa Arts and Events Center\, 195 W. Main St.\, Cedaredge\, CO\, 81413
CATEGORIES:Arts & Culture
ATTACH;FMTTYPE=image/jpeg:https://deltacountycolorado.com/wp-content/uploads/2026/04/Edge-of-Cedars-2026-scaled.jpg
ORGANIZER;CN="Grand Mesa Arts and Events Center":MAILTO:info@grandmesaartscenter.com
END:VEVENT
BEGIN:VEVENT
DTSTART;TZID=America/Denver:20260502T100000
DTEND;TZID=America/Denver:20260502T220000
DTSTAMP:20260420T081534
CREATED:20260414T181701Z
LAST-MODIFIED:20260414T181701Z
UID:10006341-1777716000-1777759200@deltacountycolorado.com
SUMMARY:Cinco de Mayo Fiesta
DESCRIPTION:Experience Heritage in the heart of Delta at the annual Cinco de Mayo Fiesta! Join us at the Grand View Event Center for a full day of community celebration featuring live music\, traditional dance\, and family-friendly fun. \nGates open at 10:00 AM\, where you can explore a variety of food trucks serving authentic tacos\, elotes\, and churros\, or browse unique offerings from local artisans and craft vendors. The main stage will be alive all day with high-energy performances\, including regional Mexican music from Estilo Heredado\, folkloric routines from the ALT Dance Team\, and live entertainment from Danza San Miguel. Stay through the evening to catch the Mexican Rodeo and live music to close out the night! Tickets for the rodeo and closing music are available for purchase at the gate. \nEvent Details\nDate: May 2\, 2026 \nTime: 10:00 AM – 10:00 PM \nLocation: Grand View Event Center \nAddress: 680 1800 Rd.\, Delta\, Colorado \nMain Stage Lineup: Estilo Heredado\, ALT Dance Team\, and Danza San Miguel \nContact: (970) 270-1411
URL:https://deltacountycolorado.com/event/cinco-de-mayo-fiesta/
LOCATION:Grand View Events Center\, 680 1800 Rd\, Delta\, 81416
CATEGORIES:America 250- Colorado 150,Arts & Culture,Holiday Event,Live Music,Rodeo
ATTACH;FMTTYPE=image/jpeg:https://deltacountycolorado.com/wp-content/uploads/2026/04/Cinco-De-Mayo.jpg
END:VEVENT
BEGIN:VEVENT
DTSTART;TZID=America/Denver:20260502T190000
DTEND;TZID=America/Denver:20260502T210000
DTSTAMP:20260420T081534
CREATED:20260217T191607Z
LAST-MODIFIED:20260217T191607Z
UID:10006256-1777748400-1777755600@deltacountycolorado.com
SUMMARY:Spring Classic Concert Series - Blue Sage
DESCRIPTION:Experience world-class artistry in the heart of Paonia with the Spring Classical Concert Series 2026 at the Blue Sage Center for the Arts. This curated series features four exceptional soloists performing throughout the spring season: \nFriday\, March 13: Oboist Nick Carozza. \nSaturday\, April 18: Guitarist Javier De Los Santos. \nSaturday\, May 2: Cellist Jason Pegis. \nSaturday\, May 23: Pianist Susan Ellinger. \nSecure your seat for the entire season and support local arts by purchasing a Season Pass for only $60. Don’t miss this opportunity to witness breathtaking musical performances in an intimate community setting.
URL:https://deltacountycolorado.com/event/spring-classic-concert-series-blue-sage/2026-05-02/
LOCATION:Blue Sage Center for the Arts\, 226 Grand Avenue\, Paonia\, CO\, 81428
CATEGORIES:Arts & Culture,Live Music
ATTACH;FMTTYPE=image/png:https://deltacountycolorado.com/wp-content/uploads/2026/02/Blue-Sage-Center-Classical-Music-Concert-Series-1.png
END:VEVENT
BEGIN:VEVENT
DTSTART;TZID=America/Denver:20260505T173000
DTEND;TZID=America/Denver:20260505T200000
DTSTAMP:20260420T081534
CREATED:20260414T174850Z
LAST-MODIFIED:20260414T174850Z
UID:10006321-1778002200-1778011200@deltacountycolorado.com
SUMMARY:When Words Become Breath
DESCRIPTION:Join us for an evening of expression at When Words Become Breath\, a spoken word open mic forum hosted by Rene’ Janiece. Held in the intimate setting of the Starr Family Gallery\, this monthly gathering offers a warm and welcoming environment for writers to share their original works or works-in-progress. \nWhether you are a local poet\, a storyteller\, or someone who simply wishes to share a passage from a favorite author that resonates with you\, this forum is your space. We invite you to come and breathe life into words among a community of fellow literary enthusiasts at the Grand Mesa Arts & Events Center. \n\nEvent Details\n\n\nWhen: First Tuesday of Each Month \n\n\nTime: 6:00 PM (Sign-up begins at 5:30 PM) \n\n\nLocation: Starr Family Gallery at Grand Mesa Arts & Events Center \n\n\nAddress: 195 W. Main Street\, Cedaredge\, CO 81413 \n\n\nCost: $5 Suggested Donation
URL:https://deltacountycolorado.com/event/when-words-become-breath/2026-05-05/
LOCATION:Grand Mesa Arts and Events Center\, 195 W. Main St.\, Cedaredge\, CO\, 81413
CATEGORIES:Arts & Culture
ATTACH;FMTTYPE=image/jpeg:https://deltacountycolorado.com/wp-content/uploads/2026/04/Words-2-scaled.jpg
ORGANIZER;CN="Grand Mesa Arts and Events Center":MAILTO:info@grandmesaartscenter.com
END:VEVENT
BEGIN:VEVENT
DTSTART;TZID=America/Denver:20260507T190000
DTEND;TZID=America/Denver:20260507T210000
DTSTAMP:20260420T081534
CREATED:20260414T175748Z
LAST-MODIFIED:20260414T175748Z
UID:10006339-1778180400-1778187600@deltacountycolorado.com
SUMMARY:Grand Mesa Story Share
DESCRIPTION:Experience the dynamic and unforgettable journey of three Cedaredge stories brought to life through a powerful multi-disciplinary performance. Grand Mesa Story Share is a unique collaborative event featuring storytellers\, videographers\, musicians\, writers\, visual artists\, and actors working together to weave a rich narrative of our local history and culture. \nThis project is proudly supported by the CU Boulder Office for Public and Community-Engaged Scholarship and features Impact Playback Theatre. Join us at the Grand Mesa Arts & Events Center for an evening that celebrates the art of storytelling and the creative spirit of the Surface Creek Valley. \nEvent Details\nDate: Thursday\, May 7th \nTime: 7:00 PM \nLocation: Grand Mesa Arts & Events Center \nAddress: 195 W. Main Street\, Cedaredge\, CO 81413 \nCost: $20 per person
URL:https://deltacountycolorado.com/event/grand-mesa-story-share/
LOCATION:Grand Mesa Arts and Events Center\, 195 W. Main St.\, Cedaredge\, CO\, 81413
CATEGORIES:Arts & Culture,Author Event
ATTACH;FMTTYPE=image/jpeg:https://deltacountycolorado.com/wp-content/uploads/2026/04/Story-Share-New-scaled.jpg
ORGANIZER;CN="Grand Mesa Arts and Events Center":MAILTO:info@grandmesaartscenter.com
END:VEVENT
BEGIN:VEVENT
DTSTART;VALUE=DATE:20260508
DTEND;VALUE=DATE:20260509
DTSTAMP:20260420T081534
CREATED:20260316T190300Z
LAST-MODIFIED:20260316T190300Z
UID:10006281-1778198400-1778284799@deltacountycolorado.com
SUMMARY:Western Heritage Land & Legacy Exhibit at the Creamery Arts Center
DESCRIPTION:Western Heritage: Land & Legacy\nThe Creamery Arts Center is thrilled to announce Western Heritage: Land & Legacy\, a juried exhibition celebrating the landscapes\, traditions\, and enduring spirit of Colorado’s Western Slope. \nOpening May 8th from 5–8 PM during Hotchkiss Second Friday\, this exhibition will bring together artists exploring the West through a wide range of styles—from classic Western and plein air painting to contemporary interpretations inspired by the land. \nAll mediums are welcome\, including: \n• Painting\n• Sculpture\n• Photography\n• Printmaking\n• Leather work\n• Mixed media \nArtists are invited to apply now. \nThe exhibition is open to West Slope artists\, and submissions will be accepted through April 21st. \nApply Here
URL:https://deltacountycolorado.com/event/western-heritage-land-legacy-exhibit-at-the-creamery-arts-center/
LOCATION:The Creamery Arts Center\, 165 W. Bridge St.\, Hotchkiss\, CO\, 81419
CATEGORIES:Arts & Culture
ATTACH;FMTTYPE=image/jpeg:https://deltacountycolorado.com/wp-content/uploads/2026/03/Creamery.jpg
ORGANIZER;CN="The Creamery Arts Center":MAILTO:gallery@creameryartscenter.org
END:VEVENT
BEGIN:VEVENT
DTSTART;TZID=America/Denver:20260508T010000
DTEND;TZID=America/Denver:20260508T160000
DTSTAMP:20260420T081534
CREATED:20260211T212239Z
LAST-MODIFIED:20260211T212239Z
UID:10006248-1778202000-1778256000@deltacountycolorado.com
SUMMARY:Wicks & Wine Studio Sessions at GMAEC
DESCRIPTION:Uncork your creativity and escape the ordinary with our Wicks & Wine Studio Sessions. Hosted at the Grand Mesa Arts & Events Center in Cedaredge\, these sessions invite you to craft your own custom candle while sipping on delicious wine. No prior experience is necessary—just bring good vibes and a love for great scents. Whether you’re looking for a unique afternoon with friends or a new creative outlet\, our studio provides the perfect atmosphere to relax and create. Visit gmaec.org or scan the QR code to register for an upcoming session.
URL:https://deltacountycolorado.com/event/wicks-wine-studio-sessions-at-gmaec/2026-05-08/
LOCATION:Grand Mesa Arts and Events Center\, 195 W. Main St.\, Cedaredge\, CO\, 81413
CATEGORIES:Arts & Culture
ATTACH;FMTTYPE=image/jpeg:https://deltacountycolorado.com/wp-content/uploads/2026/02/Wicks-Wine-scaled.jpg
ORGANIZER;CN="Grand Mesa Arts and Events Center":MAILTO:info@grandmesaartscenter.com
END:VEVENT
BEGIN:VEVENT
DTSTART;TZID=America/Denver:20260508T080000
DTEND;TZID=America/Denver:20260510T170000
DTSTAMP:20260420T081534
CREATED:20260304T200259Z
LAST-MODIFIED:20260304T200259Z
UID:10006267-1778227200-1778432400@deltacountycolorado.com
SUMMARY:2026 Wine & Dine Escape
DESCRIPTION:Experience the ultimate culinary retreat with the 2026 Wine & Dine Escape\, hosted in the scenic North Fork Valley from Friday\, May 8th through Sunday\, May 10th. This exclusive weekend getaway features a luxurious stay at the historic Bross Hotel Bed & Breakfast and immersive tastings at Stone Cottage Cellars. \nGuests will enjoy meticulously paired multi-course meals\, vineyard tours with views of the West Elk Mountains\, and artisanal hors d’oeuvres. While the May event is currently SOLD OUT\, those who missed out can look forward to the Wine & Whitewater event in July 2026
URL:https://deltacountycolorado.com/event/2026-wine-dine-escape/
LOCATION:The Bross Hotel\, 312 Ornaga Avenue\, Paonia\, CO\, 81428
CATEGORIES:Agriculture,Arts & Culture,Food,Wine
ATTACH;FMTTYPE=image/jpeg:https://deltacountycolorado.com/wp-content/uploads/2026/03/Bross-Wine-Dine.jpeg
ORGANIZER;CN="Stone Cottage Cellars":MAILTO:info@stonecottagecellars.com
END:VEVENT
BEGIN:VEVENT
DTSTART;VALUE=DATE:20260510
DTEND;VALUE=DATE:20260513
DTSTAMP:20260420T081534
CREATED:20260316T180042Z
LAST-MODIFIED:20260316T180042Z
UID:10006279-1778371200-1778630399@deltacountycolorado.com
SUMMARY:Wine & Whitewater Escape Weekend
DESCRIPTION:Experience the ultimate North Fork Valley getaway with the Wine & Whitewater Escape Weekend\, taking place July 10-12\, 2026. This all-inclusive luxury experience features a two-night stay at the Historic Bross Hotel\, complete with gourmet breakfasts. Your weekend begins with an elegant wine and hors d’oeuvres reception at Stone Cottage Cellars\, followed by a Saturday adventure rafting the Gunnison River with Western Slope SUP. \nWhile on the river\, enjoy personalized wine descriptions and tastings; you will even select 12 bottles to create a custom case of wine included in your package. The highlight of the weekend is the Winemaker’s Dinner at Wisehart Springs\, featuring a five-course “French Countryside” menu by Chef Ron Jardon\, expertly paired with Stone Cottage Wines. With only 10 couple spots available\, this popular event sells out quickly—book early to secure your room selection!
URL:https://deltacountycolorado.com/event/wine-whitewater-escape-weekend/
LOCATION:Paonia\, Paonia\, CO\, 81428
CATEGORIES:Agriculture,Arts & Culture,Water Events,Wine
ATTACH;FMTTYPE=image/jpeg:https://deltacountycolorado.com/wp-content/uploads/2026/03/Wine-Whitewater-Escape-2026.jpg
ORGANIZER;CN="Stone Cottage Cellars":MAILTO:info@stonecottagecellars.com
END:VEVENT
BEGIN:VEVENT
DTSTART;TZID=America/Denver:20260516T190000
DTEND;TZID=America/Denver:20260516T210000
DTSTAMP:20260420T081534
CREATED:20251124T173129Z
LAST-MODIFIED:20251124T173129Z
UID:10006127-1778958000-1778965200@deltacountycolorado.com
SUMMARY:2026 GMAEC Spring Concert Series- Presented By Alpine Bank
DESCRIPTION:Season Pass\n\nSpring Concert Series JANUARY 22nd IS THE LAST DAY TO BUY A SEASON PASS! \n\n\n\n\n\n\n\n\n\n\n\nTime & Location\n\n\nNov 19\, 2025\, 12:00 AM \nGrand Mesa Arts & Events Center\, 195 W Main St\, Cedaredge\, CO 81413\, USA \n\n\n\n\nAbout the Event\n\n\n\nWe have a GREAT line up for our Spring Concert Series. Get your Season Pass now! \nAnd don’t forget\, A Season Pass makes a great gift!  Tickets are transferrable! \n \n2026 Line up*: \nFebruary 27th – Hypothetical Bluegrass Solution $25 \nMarch 13th – David Starr Blues Review $40 \nMarch 27th OR 28th – Hazel Miller Trio:  $30 Only 1 date is eligible for the season pass (You will select a date at checkout).  \nApril 18th – Oregon Trail Troubadours: $30 \nMay 16th – Cary Morin Duo -$25  \nMay 30th – Tierro Band with Bridget Law – $35 \n*See individual concerts for details \n \nValue of all 6 concerts purchased individually= $185 \nSeason pass price:  $165 \nSeason pass member price- HUGE savings:  $150 (members will receive a discount code via email) \n \n**Season Pass Perks include meet & greets with all musicians!
URL:https://deltacountycolorado.com/event/2026-gmaec-spring-concert-series-presented-by-alpine-bank/2026-05-16/
LOCATION:Grand Mesa Arts and Events Center\, 195 W. Main St.\, Cedaredge\, CO\, 81413
CATEGORIES:Arts & Culture,Performing Arts
ATTACH;FMTTYPE=image/jpeg:https://deltacountycolorado.com/wp-content/uploads/2025/11/GMAEC-Spring.jpg
ORGANIZER;CN="Grand Mesa Arts and Events Center":MAILTO:info@grandmesaartscenter.com
END:VEVENT
BEGIN:VEVENT
DTSTART;TZID=America/Denver:20260521T173000
DTEND;TZID=America/Denver:20260521T200000
DTSTAMP:20260420T081534
CREATED:20260414T174358Z
LAST-MODIFIED:20260414T174358Z
UID:10006305-1779384600-1779393600@deltacountycolorado.com
SUMMARY:Live at 5:55- Open Mic Nights GMAEC
DESCRIPTION:Step into the spotlight at Live at 5:55 ~ Open Mic Nights\, presented by CropWorx! Held one Tuesday each month at the Grand Mesa Arts & Events Center\, this is your chance to share your talents in an intimate\, supportive\, and family-friendly setting. Whether you want to sing\, read poetry\, play music\, or try out a comedy set\, we want to see what you’ve got! \nThis event is open to the public and all ages are welcome to participate or simply enjoy the show. Grab a drink or a snack at our concessions and settle in for a night of local creativity. Performers can sign up on-site starting at 5:30 PM. \nEvent Details\nWhen: The Third Tuesday each month \nTime: 5:55 PM – 8:00 PM (Sign-ups at 5:30 PM) \nLocation: Grand Mesa Arts & Events Center \nAddress: 195 W. Main Street\, Cedaredge\, CO 81413 \nCost: Suggested Donation $5 \nPerks: Beer\, wine\, and concessions available!
URL:https://deltacountycolorado.com/event/live-at-555-open-mic-nights-gmaec/2026-05-21/
LOCATION:Grand Mesa Arts and Events Center\, 195 W. Main St.\, Cedaredge\, CO\, 81413
CATEGORIES:Arts & Culture,Live Music
ATTACH;FMTTYPE=image/jpeg:https://deltacountycolorado.com/wp-content/uploads/2026/04/Open-Mic-Night-CropWorx-2-scaled.jpg
ORGANIZER;CN="Grand Mesa Arts and Events Center":MAILTO:info@grandmesaartscenter.com
END:VEVENT
BEGIN:VEVENT
DTSTART;TZID=America/Denver:20260521T180000
DTEND;TZID=America/Denver:20260521T210000
DTSTAMP:20260420T081534
CREATED:20260402T172708Z
LAST-MODIFIED:20260402T172708Z
UID:10006291-1779386400-1779397200@deltacountycolorado.com
SUMMARY:Rosé Wine Dinner at Sips on Main.
DESCRIPTION:Indulge in a sophisticated evening of flavor and education at the Rosé Wine Dinner\, the next installment in our celebrated wine dinner series at Sips on Main. Join us for a delicious three-course journey meticulously prepared by Chef Anouk Patel\, featuring exquisite rosé wine pairings specifically selected to complement each course. \nThroughout the evening\, local wine expert Mark Condon will lead a fascinating discussion on the featured wines and their regions of origin. Whether you are a connoisseur or simply looking for a memorable night out\, you are invited to laugh\, learn\, and linger as we navigate the fine world of Rosé together. Secure your seat for this premier culinary event in Cedaredge! \n\nEvent Details & Tickets\n\n\nDate: Wednesday\, May 21\, 2026 \n\n\nTime: 6:00 PM – 9:00 PM \n\n\nLocation: Sips on Main\, Cedaredge\, CO \n\n\nFeatures: Three-course dinner\, expert wine pairings\, and regional discussion \n\n\nTickets: Purchase Tickets via Sips on Main
URL:https://deltacountycolorado.com/event/rose-wine-dinner-at-sips-on-main/
LOCATION:SIPS on Main\, 215 S. Main St.\, Cedaredge\, CO\, 81413
CATEGORIES:Arts & Culture,Food,Wine
ATTACH;FMTTYPE=image/jpeg:https://deltacountycolorado.com/wp-content/uploads/2026/04/Rose-Wine-Dinner.jpg
END:VEVENT
BEGIN:VEVENT
DTSTART;TZID=America/Denver:20260523T190000
DTEND;TZID=America/Denver:20260523T210000
DTSTAMP:20260420T081534
CREATED:20260217T191607Z
LAST-MODIFIED:20260217T191607Z
UID:10006257-1779562800-1779570000@deltacountycolorado.com
SUMMARY:Spring Classic Concert Series - Blue Sage
DESCRIPTION:Experience world-class artistry in the heart of Paonia with the Spring Classical Concert Series 2026 at the Blue Sage Center for the Arts. This curated series features four exceptional soloists performing throughout the spring season: \nFriday\, March 13: Oboist Nick Carozza. \nSaturday\, April 18: Guitarist Javier De Los Santos. \nSaturday\, May 2: Cellist Jason Pegis. \nSaturday\, May 23: Pianist Susan Ellinger. \nSecure your seat for the entire season and support local arts by purchasing a Season Pass for only $60. Don’t miss this opportunity to witness breathtaking musical performances in an intimate community setting.
URL:https://deltacountycolorado.com/event/spring-classic-concert-series-blue-sage/2026-05-23/
LOCATION:Blue Sage Center for the Arts\, 226 Grand Avenue\, Paonia\, CO\, 81428
CATEGORIES:Arts & Culture,Live Music
ATTACH;FMTTYPE=image/png:https://deltacountycolorado.com/wp-content/uploads/2026/02/Blue-Sage-Center-Classical-Music-Concert-Series-1.png
END:VEVENT
BEGIN:VEVENT
DTSTART;VALUE=DATE:20260524
DTEND;VALUE=DATE:20260527
DTSTAMP:20260420T081534
CREATED:20260312T182724Z
LAST-MODIFIED:20260312T182724Z
UID:10006278-1779580800-1779839999@deltacountycolorado.com
SUMMARY:Folk & Roots Rendezvous- Big B's Delicious Orchards
DESCRIPTION:Celebrate Memorial Day Weekend at the Folk ‘n Roots Rendezvous\, a premier three-day music festival hosted by Big B’s Delicious Orchards in Hotchkiss\, Colorado. This family-friendly event features three days of free live music set against the beautiful backdrop of the orchard. Attendees can enjoy a full weekend of campouts under starry nights\, fruitwood-smoked BBQ\, refreshing hard cider\, and fresh juices. \nThe festival kicks off Friday evening and continues through Sunday with a diverse lineup including Stillhouse Junkies\, The Steel Wheels\, and Mama Lingua\, along with interactive activities like Contra Dancing and a Beginners Bluegrass Jam. With kids’ activities and late-night picking around the campfire\, it is the perfect way to welcome the spring season in the North Fork Valley.
URL:https://deltacountycolorado.com/event/folk-roots-renzvous/
LOCATION:Big B’s Delicious Orchards U-pick\, Cafe & Tasting Room\, 39126 CO-133\, Hotchkiss\, CO\, 81419
CATEGORIES:Agriculture,Arts & Culture,Camping,Festivals,Live Music
ATTACH;FMTTYPE=image/jpeg:https://deltacountycolorado.com/wp-content/uploads/2026/03/Folk-Roots.jpg
END:VEVENT
BEGIN:VEVENT
DTSTART;TZID=America/Denver:20260530T190000
DTEND;TZID=America/Denver:20260530T210000
DTSTAMP:20260420T081534
CREATED:20251124T173129Z
LAST-MODIFIED:20251124T173129Z
UID:10006128-1780167600-1780174800@deltacountycolorado.com
SUMMARY:2026 GMAEC Spring Concert Series- Presented By Alpine Bank
DESCRIPTION:Season Pass\n\nSpring Concert Series JANUARY 22nd IS THE LAST DAY TO BUY A SEASON PASS! \n\n\n\n\n\n\n\n\n\n\n\nTime & Location\n\n\nNov 19\, 2025\, 12:00 AM \nGrand Mesa Arts & Events Center\, 195 W Main St\, Cedaredge\, CO 81413\, USA \n\n\n\n\nAbout the Event\n\n\n\nWe have a GREAT line up for our Spring Concert Series. Get your Season Pass now! \nAnd don’t forget\, A Season Pass makes a great gift!  Tickets are transferrable! \n \n2026 Line up*: \nFebruary 27th – Hypothetical Bluegrass Solution $25 \nMarch 13th – David Starr Blues Review $40 \nMarch 27th OR 28th – Hazel Miller Trio:  $30 Only 1 date is eligible for the season pass (You will select a date at checkout).  \nApril 18th – Oregon Trail Troubadours: $30 \nMay 16th – Cary Morin Duo -$25  \nMay 30th – Tierro Band with Bridget Law – $35 \n*See individual concerts for details \n \nValue of all 6 concerts purchased individually= $185 \nSeason pass price:  $165 \nSeason pass member price- HUGE savings:  $150 (members will receive a discount code via email) \n \n**Season Pass Perks include meet & greets with all musicians!
URL:https://deltacountycolorado.com/event/2026-gmaec-spring-concert-series-presented-by-alpine-bank/2026-05-30/
LOCATION:Grand Mesa Arts and Events Center\, 195 W. Main St.\, Cedaredge\, CO\, 81413
CATEGORIES:Arts & Culture,Performing Arts
ATTACH;FMTTYPE=image/jpeg:https://deltacountycolorado.com/wp-content/uploads/2025/11/GMAEC-Spring.jpg
ORGANIZER;CN="Grand Mesa Arts and Events Center":MAILTO:info@grandmesaartscenter.com
END:VEVENT
END:VCALENDAR