BEGIN:VCALENDAR
VERSION:2.0
PRODID:-//Delta County Tourism - ECPv6.15.20//NONSGML v1.0//EN
CALSCALE:GREGORIAN
METHOD:PUBLISH
X-WR-CALNAME:Delta County Tourism
X-ORIGINAL-URL:https://deltacountycolorado.com
X-WR-CALDESC:Events for Delta County Tourism
REFRESH-INTERVAL;VALUE=DURATION:PT1H
X-Robots-Tag:noindex
X-PUBLISHED-TTL:PT1H
BEGIN:VTIMEZONE
TZID:America/Denver
BEGIN:DAYLIGHT
TZOFFSETFROM:-0700
TZOFFSETTO:-0600
TZNAME:MDT
DTSTART:20250309T090000
END:DAYLIGHT
BEGIN:STANDARD
TZOFFSETFROM:-0600
TZOFFSETTO:-0700
TZNAME:MST
DTSTART:20251102T080000
END:STANDARD
BEGIN:DAYLIGHT
TZOFFSETFROM:-0700
TZOFFSETTO:-0600
TZNAME:MDT
DTSTART:20260308T090000
END:DAYLIGHT
BEGIN:STANDARD
TZOFFSETFROM:-0600
TZOFFSETTO:-0700
TZNAME:MST
DTSTART:20261101T080000
END:STANDARD
BEGIN:DAYLIGHT
TZOFFSETFROM:-0700
TZOFFSETTO:-0600
TZNAME:MDT
DTSTART:20270314T090000
END:DAYLIGHT
BEGIN:STANDARD
TZOFFSETFROM:-0600
TZOFFSETTO:-0700
TZNAME:MST
DTSTART:20271107T080000
END:STANDARD
END:VTIMEZONE
BEGIN:VEVENT
DTSTART;TZID=America/Denver:20260304T100000
DTEND;TZID=America/Denver:20260331T180000
DTSTAMP:20260421T161601
CREATED:20260304T205012Z
LAST-MODIFIED:20260304T205012Z
UID:10006272-1772618400-1774980000@deltacountycolorado.com
SUMMARY:Delta Library- Journey Through Time Colorado and United States Timeline
DESCRIPTION:Step into the stories that shaped our state and nation with Journey Through Time\, a monthly bridge to history hosted by Delta County Libraries. As part of the America 250 – Colorado 150 Commemoration\, this program features rotating monthly displays that bring to life 150 years of Colorado’s rich heritage and 250 years of the United States’ journey. \nIn March\, the Delta Library will highlight pivotal moments including the Gold Rush & Early Settlement (1858–1859) and the ratification of the 19th Amendment in 1920\, granting women the right to vote. Additionally\, the Cedaredge Library will host special programs including an Antique Show and Tell for adults and a Scrapbooking Your Story workshop for teens. Join us to explore the people\, places\, and events that define our shared history.
URL:https://deltacountycolorado.com/event/delta-library-journey-through-time-colorado-and-united-states-timeline/2026-03-04/2/
CATEGORIES:America 250- Colorado 150,Arts & Culture
END:VEVENT
END:VCALENDAR