BEGIN:VCALENDAR
VERSION:2.0
PRODID:-//Delta County Tourism - ECPv6.15.20//NONSGML v1.0//EN
CALSCALE:GREGORIAN
METHOD:PUBLISH
X-ORIGINAL-URL:https://deltacountycolorado.com
X-WR-CALDESC:Events for Delta County Tourism
REFRESH-INTERVAL;VALUE=DURATION:PT1H
X-Robots-Tag:noindex
X-PUBLISHED-TTL:PT1H
BEGIN:VTIMEZONE
TZID:America/Denver
BEGIN:DAYLIGHT
TZOFFSETFROM:-0700
TZOFFSETTO:-0600
TZNAME:MDT
DTSTART:20250309T090000
END:DAYLIGHT
BEGIN:STANDARD
TZOFFSETFROM:-0600
TZOFFSETTO:-0700
TZNAME:MST
DTSTART:20251102T080000
END:STANDARD
BEGIN:DAYLIGHT
TZOFFSETFROM:-0700
TZOFFSETTO:-0600
TZNAME:MDT
DTSTART:20260308T090000
END:DAYLIGHT
BEGIN:STANDARD
TZOFFSETFROM:-0600
TZOFFSETTO:-0700
TZNAME:MST
DTSTART:20261101T080000
END:STANDARD
BEGIN:DAYLIGHT
TZOFFSETFROM:-0700
TZOFFSETTO:-0600
TZNAME:MDT
DTSTART:20270314T090000
END:DAYLIGHT
BEGIN:STANDARD
TZOFFSETFROM:-0600
TZOFFSETTO:-0700
TZNAME:MST
DTSTART:20271107T080000
END:STANDARD
END:VTIMEZONE
BEGIN:VEVENT
DTSTART;TZID=America/Denver:20260602T173000
DTEND;TZID=America/Denver:20260602T200000
DTSTAMP:20260421T180332
CREATED:20260414T174850Z
LAST-MODIFIED:20260414T174850Z
UID:10006322-1780421400-1780430400@deltacountycolorado.com
SUMMARY:When Words Become Breath
DESCRIPTION:Join us for an evening of expression at When Words Become Breath\, a spoken word open mic forum hosted by Rene’ Janiece. Held in the intimate setting of the Starr Family Gallery\, this monthly gathering offers a warm and welcoming environment for writers to share their original works or works-in-progress. \nWhether you are a local poet\, a storyteller\, or someone who simply wishes to share a passage from a favorite author that resonates with you\, this forum is your space. We invite you to come and breathe life into words among a community of fellow literary enthusiasts at the Grand Mesa Arts & Events Center. \n\nEvent Details\n\n\nWhen: First Tuesday of Each Month \n\n\nTime: 6:00 PM (Sign-up begins at 5:30 PM) \n\n\nLocation: Starr Family Gallery at Grand Mesa Arts & Events Center \n\n\nAddress: 195 W. Main Street\, Cedaredge\, CO 81413 \n\n\nCost: $5 Suggested Donation
URL:https://deltacountycolorado.com/event/when-words-become-breath/2026-06-02/
LOCATION:Grand Mesa Arts and Events Center\, 195 W. Main St.\, Cedaredge\, CO\, 81413
CATEGORIES:Arts & Culture
ATTACH;FMTTYPE=image/jpeg:https://deltacountycolorado.com/wp-content/uploads/2026/04/Words-2-scaled.jpg
ORGANIZER;CN="Grand Mesa Arts and Events Center":MAILTO:info@grandmesaartscenter.com
END:VEVENT
END:VCALENDAR