BEGIN:VCALENDAR
VERSION:2.0
PRODID:-//Delta County Tourism - ECPv6.15.20//NONSGML v1.0//EN
CALSCALE:GREGORIAN
METHOD:PUBLISH
X-ORIGINAL-URL:https://deltacountycolorado.com
X-WR-CALDESC:Events for Delta County Tourism
REFRESH-INTERVAL;VALUE=DURATION:PT1H
X-Robots-Tag:noindex
X-PUBLISHED-TTL:PT1H
BEGIN:VTIMEZONE
TZID:America/Denver
BEGIN:DAYLIGHT
TZOFFSETFROM:-0700
TZOFFSETTO:-0600
TZNAME:MDT
DTSTART:20250309T090000
END:DAYLIGHT
BEGIN:STANDARD
TZOFFSETFROM:-0600
TZOFFSETTO:-0700
TZNAME:MST
DTSTART:20251102T080000
END:STANDARD
BEGIN:DAYLIGHT
TZOFFSETFROM:-0700
TZOFFSETTO:-0600
TZNAME:MDT
DTSTART:20260308T090000
END:DAYLIGHT
BEGIN:STANDARD
TZOFFSETFROM:-0600
TZOFFSETTO:-0700
TZNAME:MST
DTSTART:20261101T080000
END:STANDARD
BEGIN:DAYLIGHT
TZOFFSETFROM:-0700
TZOFFSETTO:-0600
TZNAME:MDT
DTSTART:20270314T090000
END:DAYLIGHT
BEGIN:STANDARD
TZOFFSETFROM:-0600
TZOFFSETTO:-0700
TZNAME:MST
DTSTART:20271107T080000
END:STANDARD
END:VTIMEZONE
BEGIN:VEVENT
DTSTART;VALUE=DATE:20260605
DTEND;VALUE=DATE:20260608
DTSTAMP:20260421T180349
CREATED:20260115T181317Z
LAST-MODIFIED:20260414T173210Z
UID:10006158-1780617600-1780876799@deltacountycolorado.com
SUMMARY:The Third Annual Grand Mesa Singer Songwriter Festival
DESCRIPTION:Experience the art of the song at the 2026 Grand Mesa Songwriter Festival in beautiful Cedaredge\, Colorado! Presented by Starr’s Guitars\, this premier three-day event runs from June 5–7\, 2026\, bringing world-class storytelling and music to the Grand Mesa Arts & Events Center. \nWe are honored to feature Grammy-winning artist Rodney Crowell alongside an incredible lineup of talented songwriters\, including Liz Barnez\, Susan Gibson\, and many more. This festival offers an intimate look at the craft behind the hits\, set against the stunning backdrop of Cedaredge. Don’t miss this weekend of high-altitude creativity! \nEvent Details\nDates: June 5–7\, 2026 \nLocation: Grand Mesa Arts & Events Center \nAddress: 195 W. Main Street\, Cedaredge\, CO 81413 \nTickets & Info: Visit www.gmaec.org or call 970-856-9195 \nFeatured Headliner: Rodney Crowell
URL:https://deltacountycolorado.com/event/the-third-annual-grand-mesa-singer-songwriter-festival/
LOCATION:Grand Mesa Arts and Events Center\, 195 W. Main St.\, Cedaredge\, CO\, 81413
CATEGORIES:Arts & Culture,Festivals,Live Music
ATTACH;FMTTYPE=image/jpeg:https://deltacountycolorado.com/wp-content/uploads/2026/01/Songwriter-Festival-Flyer-2026-1-scaled.jpg
ORGANIZER;CN="Grand Mesa Arts and Events Center":MAILTO:info@grandmesaartscenter.com
END:VEVENT
BEGIN:VEVENT
DTSTART;TZID=America/Denver:20260605T183000
DTEND;TZID=America/Denver:20260605T183000
DTSTAMP:20260421T180349
CREATED:20260414T181201Z
LAST-MODIFIED:20260414T181243Z
UID:10006340-1780684200-1780684200@deltacountycolorado.com
SUMMARY:Tracy Byrd live at the Grand View Event Center.
DESCRIPTION:Dust off your boots and get ready for a night of classic country hits! The Grand View Event Center is proud to present country music superstar Tracy Byrd on Friday\, June 5th. Known for timeless chart-toppers like “Watermelon Crawl” and “The Keeper of the Stars\,” Byrd brings his high-energy performance to Delta\, Colorado for an unforgettable evening under the stars. \nThe night kicks off with performances by special guests Frank Ray and Jason Abbott\, making this the premier country music event of the season. Presented in partnership with 92.3 The Moose and 101.9 The Moose Legends\, this is a show you won’t want to miss. Join us at the Grand View for great music\, great company\, and true Colorado spirit! \nEvent Details\nArtist: Tracy Byrd \nSpecial Guests: Frank Ray and Jason Abbott \nDate: Friday\, June 5th \nLocation: Grand View Event Center \nAddress: Delta\, CO \nPartners: 92.3 & 101.9 The Moose \nGet tickets at https://gveventcenter.com/events
URL:https://deltacountycolorado.com/event/tracy-byrd-live-at-the-grand-view-event-center/
LOCATION:Grand View Events Center\, 680 1800 Rd\, Delta\, 81416
CATEGORIES:Arts & Culture,Live Music,Performing Arts
ATTACH;FMTTYPE=image/jpeg:https://deltacountycolorado.com/wp-content/uploads/2026/04/Tracy-Bird.jpg
END:VEVENT
END:VCALENDAR