BEGIN:VCALENDAR
VERSION:2.0
PRODID:-//Delta County Tourism - ECPv6.15.20//NONSGML v1.0//EN
CALSCALE:GREGORIAN
METHOD:PUBLISH
X-ORIGINAL-URL:https://deltacountycolorado.com
X-WR-CALDESC:Events for Delta County Tourism
REFRESH-INTERVAL;VALUE=DURATION:PT1H
X-Robots-Tag:noindex
X-PUBLISHED-TTL:PT1H
BEGIN:VTIMEZONE
TZID:America/Denver
BEGIN:DAYLIGHT
TZOFFSETFROM:-0700
TZOFFSETTO:-0600
TZNAME:MDT
DTSTART:20250309T090000
END:DAYLIGHT
BEGIN:STANDARD
TZOFFSETFROM:-0600
TZOFFSETTO:-0700
TZNAME:MST
DTSTART:20251102T080000
END:STANDARD
BEGIN:DAYLIGHT
TZOFFSETFROM:-0700
TZOFFSETTO:-0600
TZNAME:MDT
DTSTART:20260308T090000
END:DAYLIGHT
BEGIN:STANDARD
TZOFFSETFROM:-0600
TZOFFSETTO:-0700
TZNAME:MST
DTSTART:20261101T080000
END:STANDARD
BEGIN:DAYLIGHT
TZOFFSETFROM:-0700
TZOFFSETTO:-0600
TZNAME:MDT
DTSTART:20270314T090000
END:DAYLIGHT
BEGIN:STANDARD
TZOFFSETFROM:-0600
TZOFFSETTO:-0700
TZNAME:MST
DTSTART:20271107T080000
END:STANDARD
END:VTIMEZONE
BEGIN:VEVENT
DTSTART;TZID=America/Denver:20260424T190000
DTEND;TZID=America/Denver:20260424T203000
DTSTAMP:20260421T125543
CREATED:20260323T194047Z
LAST-MODIFIED:20260323T194047Z
UID:10006284-1777057200-1777062600@deltacountycolorado.com
SUMMARY:The Last Show of the Season- The SUITS presented by DMCCA
DESCRIPTION:Experience the “Last Show of the Season” with an unforgettable performance by The Suits! This dynamic quartet features four gentlemen performing a high-energy fusion of Motown\, Doo Wop\, Pop\, and Rock. Covering hit music from the 50s through the 80s\, the production combines tight harmonies and smooth choreography with exciting showmanship and fun audience interaction.  \nJoin us on Friday\, April 24\, 2026\, at the Delta Center for Performing Arts. Doors open at 6:00 PM\, and the show begins at 7:00 PM. Whether you are a fan of classic rock or soulful Motown\, this performance promises a night to remember for the whole family!  \n\n 
URL:https://deltacountycolorado.com/event/suits-concert-delta/
LOCATION:Delta Center for Performing Arts Center\, 822 Grand Avenue\, Delta\, CO\, 81416
CATEGORIES:Arts & Culture
ATTACH;FMTTYPE=image/png:https://deltacountycolorado.com/wp-content/uploads/2026/03/04.24.2026-The-Suits.png
END:VEVENT
BEGIN:VEVENT
DTSTART;TZID=America/Denver:20260425T140000
DTEND;TZID=America/Denver:20260425T210000
DTSTAMP:20260421T125543
CREATED:20260407T180410Z
LAST-MODIFIED:20260407T180410Z
UID:10006298-1777125600-1777150800@deltacountycolorado.com
SUMMARY:Spring Harvest Celebration at Honey Rock
DESCRIPTION:Celebrate the return of the growing season at the Honey Rock Spring Harvest Celebration! We are thrilled to welcome back our new Head Chef\, Mike Winston\, who wowed guests last fall and is returning to lead our public harvest celebrations and seasonal menus. Join us for the first farm-to-table dinner of the season\, featuring a menu crafted from fresh greenhouse vegetables and the vibrant\, thoughtful flavors of spring grown right here on the farm. \nBeyond the incredible meal\, guests can enhance their relaxation with an Optional Sauna Experience. Unwind before or after your dinner in the Fire Within Sauna\, our on-site wood-burning mobile sauna. Don’t miss this opportunity to welcome Chef Mike back to the orchard and savor the very best of our local spring harvest. \n\nEvent Details & Reservations\n\n\nDate: Saturday\, April 25th \n\n\nTime: 2:00 PM – 9:00 PM \n\n\nLocation: Honey Rock Orchard \n\n\nFeatures: Farm-to-table dinner by Chef Mike Winston and Optional Wood-Burning Sauna \n\n\nReservations: Reserve Your Seat Here!
URL:https://deltacountycolorado.com/event/spring-harvest-celebration-at-honey-rock/
LOCATION:Honey Rock Landing\, 2444 Dominguez Canyon Rd\, Delta\, CO\, 81416\, United States
CATEGORIES:Agriculture,Arts & Culture,Food,Libations,Wine
ATTACH;FMTTYPE=image/png:https://deltacountycolorado.com/wp-content/uploads/2026/04/Honey-Rock-Spring.png
END:VEVENT
BEGIN:VEVENT
DTSTART;TZID=America/Denver:20260427T173000
DTEND;TZID=America/Denver:20260427T183000
DTSTAMP:20260421T125543
CREATED:20260408T172507Z
LAST-MODIFIED:20260408T172507Z
UID:10006299-1777311000-1777314600@deltacountycolorado.com
SUMMARY:Reading with Your Child- Paonia Literacy Project
DESCRIPTION:Does your child prefer moving to sitting? Is it hard to see the connection between early reading and future school success? Never fear—the Paonia Literary Project is here to help! Join us for a fun and supportive workshop where parents and young children (ages 0–Pre-K) can learn simple\, concrete ways to build a love of books at home. \nCompiled from local reading teachers and national education experts\, this workshop provides practical ideas to get even the most active kids excited about reading. This is a family-friendly event where parents and children are encouraged to attend together. Best of all\, each family will receive a free children’s book to take home\, and pizza will be provided for all participants! \nEvent Details\nSession 1: Monday\, April 27th at Paonia K-8 School | 5:30 PM \nSession 2: Thursday\, April 30th at Crawford Montessori School | 5:30 PM \nWho: Parents and young children (ages 0–Pre-K) \nCost: FREE\, but registration is required as spots are limited \nRSVP: Register via EventBrite or at paoniabooks.com/reading-events \nQuestions?: Email events@paoniabooks.com
URL:https://deltacountycolorado.com/event/reading-with-your-child-paonia-literacy-project/2026-04-27/
LOCATION:Paonia\, Paonia\, CO\, 81428
CATEGORIES:Arts & Culture,Community Class,Education
ATTACH;FMTTYPE=image/jpeg:https://deltacountycolorado.com/wp-content/uploads/2026/04/Reading-with-your-child.jpg
END:VEVENT
BEGIN:VEVENT
DTSTART;TZID=America/Denver:20260430T173000
DTEND;TZID=America/Denver:20260430T183000
DTSTAMP:20260421T125543
CREATED:20260408T172507Z
LAST-MODIFIED:20260408T172507Z
UID:10006300-1777570200-1777573800@deltacountycolorado.com
SUMMARY:Reading with Your Child- Paonia Literacy Project
DESCRIPTION:Does your child prefer moving to sitting? Is it hard to see the connection between early reading and future school success? Never fear—the Paonia Literary Project is here to help! Join us for a fun and supportive workshop where parents and young children (ages 0–Pre-K) can learn simple\, concrete ways to build a love of books at home. \nCompiled from local reading teachers and national education experts\, this workshop provides practical ideas to get even the most active kids excited about reading. This is a family-friendly event where parents and children are encouraged to attend together. Best of all\, each family will receive a free children’s book to take home\, and pizza will be provided for all participants! \nEvent Details\nSession 1: Monday\, April 27th at Paonia K-8 School | 5:30 PM \nSession 2: Thursday\, April 30th at Crawford Montessori School | 5:30 PM \nWho: Parents and young children (ages 0–Pre-K) \nCost: FREE\, but registration is required as spots are limited \nRSVP: Register via EventBrite or at paoniabooks.com/reading-events \nQuestions?: Email events@paoniabooks.com
URL:https://deltacountycolorado.com/event/reading-with-your-child-paonia-literacy-project/2026-04-30/
LOCATION:Paonia\, Paonia\, CO\, 81428
CATEGORIES:Arts & Culture,Community Class,Education
ATTACH;FMTTYPE=image/jpeg:https://deltacountycolorado.com/wp-content/uploads/2026/04/Reading-with-your-child.jpg
END:VEVENT
END:VCALENDAR