BEGIN:VCALENDAR
VERSION:2.0
PRODID:-//Delta County Tourism - ECPv6.15.20//NONSGML v1.0//EN
CALSCALE:GREGORIAN
METHOD:PUBLISH
X-WR-CALNAME:Delta County Tourism
X-ORIGINAL-URL:https://deltacountycolorado.com
X-WR-CALDESC:Events for Delta County Tourism
REFRESH-INTERVAL;VALUE=DURATION:PT1H
X-Robots-Tag:noindex
X-PUBLISHED-TTL:PT1H
BEGIN:VTIMEZONE
TZID:America/Denver
BEGIN:DAYLIGHT
TZOFFSETFROM:-0700
TZOFFSETTO:-0600
TZNAME:MDT
DTSTART:20250309T090000
END:DAYLIGHT
BEGIN:STANDARD
TZOFFSETFROM:-0600
TZOFFSETTO:-0700
TZNAME:MST
DTSTART:20251102T080000
END:STANDARD
BEGIN:DAYLIGHT
TZOFFSETFROM:-0700
TZOFFSETTO:-0600
TZNAME:MDT
DTSTART:20260308T090000
END:DAYLIGHT
BEGIN:STANDARD
TZOFFSETFROM:-0600
TZOFFSETTO:-0700
TZNAME:MST
DTSTART:20261101T080000
END:STANDARD
BEGIN:DAYLIGHT
TZOFFSETFROM:-0700
TZOFFSETTO:-0600
TZNAME:MDT
DTSTART:20270314T090000
END:DAYLIGHT
BEGIN:STANDARD
TZOFFSETFROM:-0600
TZOFFSETTO:-0700
TZNAME:MST
DTSTART:20271107T080000
END:STANDARD
END:VTIMEZONE
BEGIN:VEVENT
DTSTART;TZID=America/Denver:20260129T180000
DTEND;TZID=America/Denver:20260129T203000
DTSTAMP:20260421T204550
CREATED:20260122T174313Z
LAST-MODIFIED:20260122T174313Z
UID:10006171-1769709600-1769718600@deltacountycolorado.com
SUMMARY:SIPS Special Spaghetti Dinner
DESCRIPTION:Indulge in an evening of hand-made pasta\, Italian wine\, and great company. \nThursday\, January 29th at 6-8:30pm.\n215 W Main St\, Cedaredge \nTickets are available for purchase on the website.
URL:https://deltacountycolorado.com/event/sips-special-spaghetti-dinner/
LOCATION:SIPS on Main\, 215 S. Main St.\, Cedaredge\, CO\, 81413
CATEGORIES:Arts & Culture,Food,Wine
ATTACH;FMTTYPE=image/jpeg:https://deltacountycolorado.com/wp-content/uploads/2026/01/Sips.jpg
END:VEVENT
BEGIN:VEVENT
DTSTART;TZID=America/Denver:20260130T160000
DTEND;TZID=America/Denver:20260226T180000
DTSTAMP:20260421T204550
CREATED:20251226T171134Z
LAST-MODIFIED:20251226T171339Z
UID:10006150-1769788800-1772128800@deltacountycolorado.com
SUMMARY:Temporal Botanica - Matt Janson Exhibit - GMAEC
DESCRIPTION:Experience the beauty of nature through the eyes of artist Matt Janson in his new exhibit\, “Temporal Botanica.” Hosted at the Grand Mesa Arts & Events Center from January 19th through February 15th\, this collection explores botanical themes with stunning precision. Artist Reception January 30th from 4:00 to 6:00 PM
URL:https://deltacountycolorado.com/event/temporal-botanica-matt-janson-exhibit-cedaredge/
LOCATION:Grand Mesa Arts and Events Center\, 195 W. Main St.\, Cedaredge\, CO\, 81413
CATEGORIES:Arts & Culture
ATTACH;FMTTYPE=image/jpeg:https://deltacountycolorado.com/wp-content/uploads/2025/12/Gallery-Flyer-Janson-scaled.jpg
ORGANIZER;CN="Grand Mesa Arts and Events Center":MAILTO:info@grandmesaartscenter.com
END:VEVENT
END:VCALENDAR