BEGIN:VCALENDAR
VERSION:2.0
PRODID:-//Delta County Tourism - ECPv6.15.20//NONSGML v1.0//EN
CALSCALE:GREGORIAN
METHOD:PUBLISH
X-ORIGINAL-URL:https://deltacountycolorado.com
X-WR-CALDESC:Events for Delta County Tourism
REFRESH-INTERVAL;VALUE=DURATION:PT1H
X-Robots-Tag:noindex
X-PUBLISHED-TTL:PT1H
BEGIN:VTIMEZONE
TZID:America/Denver
BEGIN:DAYLIGHT
TZOFFSETFROM:-0700
TZOFFSETTO:-0600
TZNAME:MDT
DTSTART:20250309T090000
END:DAYLIGHT
BEGIN:STANDARD
TZOFFSETFROM:-0600
TZOFFSETTO:-0700
TZNAME:MST
DTSTART:20251102T080000
END:STANDARD
BEGIN:DAYLIGHT
TZOFFSETFROM:-0700
TZOFFSETTO:-0600
TZNAME:MDT
DTSTART:20260308T090000
END:DAYLIGHT
BEGIN:STANDARD
TZOFFSETFROM:-0600
TZOFFSETTO:-0700
TZNAME:MST
DTSTART:20261101T080000
END:STANDARD
BEGIN:DAYLIGHT
TZOFFSETFROM:-0700
TZOFFSETTO:-0600
TZNAME:MDT
DTSTART:20270314T090000
END:DAYLIGHT
BEGIN:STANDARD
TZOFFSETFROM:-0600
TZOFFSETTO:-0700
TZNAME:MST
DTSTART:20271107T080000
END:STANDARD
END:VTIMEZONE
BEGIN:VEVENT
DTSTART;TZID=America/Denver:20260130T160000
DTEND;TZID=America/Denver:20260226T180000
DTSTAMP:20260421T192438
CREATED:20251226T171134Z
LAST-MODIFIED:20251226T171339Z
UID:10006150-1769788800-1772128800@deltacountycolorado.com
SUMMARY:Temporal Botanica - Matt Janson Exhibit - GMAEC
DESCRIPTION:Experience the beauty of nature through the eyes of artist Matt Janson in his new exhibit\, “Temporal Botanica.” Hosted at the Grand Mesa Arts & Events Center from January 19th through February 15th\, this collection explores botanical themes with stunning precision. Artist Reception January 30th from 4:00 to 6:00 PM
URL:https://deltacountycolorado.com/event/temporal-botanica-matt-janson-exhibit-cedaredge/
LOCATION:Grand Mesa Arts and Events Center\, 195 W. Main St.\, Cedaredge\, CO\, 81413
CATEGORIES:Arts & Culture
ATTACH;FMTTYPE=image/jpeg:https://deltacountycolorado.com/wp-content/uploads/2025/12/Gallery-Flyer-Janson-scaled.jpg
ORGANIZER;CN="Grand Mesa Arts and Events Center":MAILTO:info@grandmesaartscenter.com
END:VEVENT
BEGIN:VEVENT
DTSTART;TZID=America/Denver:20260219T173000
DTEND;TZID=America/Denver:20260219T193000
DTSTAMP:20260421T192438
CREATED:20260218T165016Z
LAST-MODIFIED:20260218T165016Z
UID:10006258-1771522200-1771529400@deltacountycolorado.com
SUMMARY:Arts on Main Monthly Artist Soiree
DESCRIPTION:Experience a night of local creativity at the Arts on Main Artists Soirée in Delta. Join us this Thursday\, February 19th\, from 5:30 PM to 7:30 PM at 301 Main Street for an evening dedicated to celebrating our artistic community. Whether you are a practicing artist or an art enthusiast\, this gathering is the perfect opportunity to mingle\, share ideas\, and connect with fellow creators in a relaxed atmosphere. Refreshments and snacks will be provided for all guests.
URL:https://deltacountycolorado.com/event/arts-on-main-monthly-artist-soiree/
LOCATION:Arts on Main\, 301 Main St\, Delta\, CO\, 81416
CATEGORIES:Arts & Culture
ATTACH;FMTTYPE=image/jpeg:https://deltacountycolorado.com/wp-content/uploads/2026/02/Arts-on-Main.jpg
ORGANIZER;CN="Arts on Main":MAILTO:info@ArtsOnMainDelta.Com
END:VEVENT
BEGIN:VEVENT
DTSTART;TZID=America/Denver:20260220T160000
DTEND;TZID=America/Denver:20260220T180000
DTSTAMP:20260421T192438
CREATED:20260122T174844Z
LAST-MODIFIED:20260122T174844Z
UID:10006172-1771603200-1771610400@deltacountycolorado.com
SUMMARY:Brushes with Nature- Daniel Loge Exhibit GMAEC
DESCRIPTION:Opening February 16th\, Artist Reception February 20th 4-6 PM
URL:https://deltacountycolorado.com/event/brushes-with-nature-daniel-loge-exhibit-gmaec/
LOCATION:Grand Mesa Arts and Events Center\, 195 W. Main St.\, Cedaredge\, CO\, 81413
CATEGORIES:Arts & Crafts,Arts & Culture
ATTACH;FMTTYPE=image/jpeg:https://deltacountycolorado.com/wp-content/uploads/2026/01/Gallery-Flyer-Loge-scaled.jpg
ORGANIZER;CN="Grand Mesa Arts and Events Center":MAILTO:info@grandmesaartscenter.com
END:VEVENT
BEGIN:VEVENT
DTSTART;TZID=America/Denver:20260221T180000
DTEND;TZID=America/Denver:20260221T200000
DTSTAMP:20260421T192438
CREATED:20260211T212945Z
LAST-MODIFIED:20260211T212945Z
UID:10006249-1771696800-1771704000@deltacountycolorado.com
SUMMARY:Honky Tonk Shuffle- Blue Sage Center for the Arts
DESCRIPTION:Dust off your boots for the Honky Tonk Shuffle\, a neighborhood social at the Blue Sage Center for the Arts! This community event kicks off on Saturday\, February 21\, with two-step dance instruction starting at 6:00 PM led by Dave Cotten and Sherry Robley. Following the lesson\, enjoy a night of live honky tonk music from 6:30 PM to 8:00 PM featuring talented local musicians. Whether you are a seasoned dancer or a total beginner\, come out for a night of rhythm\, community\, and classic country spirit. A suggested donation of $10 helps support local arts and music programming.
URL:https://deltacountycolorado.com/event/honky-tonk-shuffle-blue-sage-center-for-the-arts/
LOCATION:Blue Sage Center for the Arts\, 226 Grand Avenue\, Paonia\, CO\, 81428
CATEGORIES:Arts & Culture,Live Music
ATTACH;FMTTYPE=image/jpeg:https://deltacountycolorado.com/wp-content/uploads/2026/02/Honky-Tonk-Shuffle-scaled.jpg
END:VEVENT
BEGIN:VEVENT
DTSTART;TZID=America/Denver:20260222T130000
DTEND;TZID=America/Denver:20260222T150000
DTSTAMP:20260421T192438
CREATED:20260219T173431Z
LAST-MODIFIED:20260219T173431Z
UID:10006261-1771765200-1771772400@deltacountycolorado.com
SUMMARY:The Hotchkiss Crawford Historical Society presents Everyday Heroes
DESCRIPTION:Join the Hotchkiss-Crawford Historical Society for their 2026 Annual Meeting: “Everyday Heroes.” Held on Sunday\, February 22nd\, at 1:00 PM at Memorial Hall in Hotchkiss\, this special event honors the local figures who shaped our community’s history. \nThe program features captivating storytelling\, including Jacqueline Meek sharing the history of Mildred Stickle-Meek\, and Robbie LeValley remembering Susan Hansen. To complement these historical tributes\, the afternoon will include a selection of traditional folk songs performed by Rai Omri. Come celebrate the legacy of our local “Everyday Heroes” and connect with the rich heritage of the North Fork Valley.
URL:https://deltacountycolorado.com/event/the-hotchkiss-crawford-historical-society-presents-everyday-heroes/
LOCATION:Memorial Hall\, 175 1st St.\, Hotchkiss\, CO\, 81419
CATEGORIES:America 250- Colorado 150,Arts & Culture,Community Talk
ATTACH;FMTTYPE=image/jpeg:https://deltacountycolorado.com/wp-content/uploads/2026/02/Every-Day-heros-scaled.jpg
ORGANIZER;CN="Hotchkiss- Crawford Historical Society":MAILTO:HCHS.mailing@gmail.com
END:VEVENT
END:VCALENDAR