BEGIN:VCALENDAR
VERSION:2.0
PRODID:-//Delta County Tourism - ECPv6.15.20//NONSGML v1.0//EN
CALSCALE:GREGORIAN
METHOD:PUBLISH
X-ORIGINAL-URL:https://deltacountycolorado.com
X-WR-CALDESC:Events for Delta County Tourism
REFRESH-INTERVAL;VALUE=DURATION:PT1H
X-Robots-Tag:noindex
X-PUBLISHED-TTL:PT1H
BEGIN:VTIMEZONE
TZID:America/Denver
BEGIN:DAYLIGHT
TZOFFSETFROM:-0700
TZOFFSETTO:-0600
TZNAME:MDT
DTSTART:20250309T090000
END:DAYLIGHT
BEGIN:STANDARD
TZOFFSETFROM:-0600
TZOFFSETTO:-0700
TZNAME:MST
DTSTART:20251102T080000
END:STANDARD
BEGIN:DAYLIGHT
TZOFFSETFROM:-0700
TZOFFSETTO:-0600
TZNAME:MDT
DTSTART:20260308T090000
END:DAYLIGHT
BEGIN:STANDARD
TZOFFSETFROM:-0600
TZOFFSETTO:-0700
TZNAME:MST
DTSTART:20261101T080000
END:STANDARD
BEGIN:DAYLIGHT
TZOFFSETFROM:-0700
TZOFFSETTO:-0600
TZNAME:MDT
DTSTART:20270314T090000
END:DAYLIGHT
BEGIN:STANDARD
TZOFFSETFROM:-0600
TZOFFSETTO:-0700
TZNAME:MST
DTSTART:20271107T080000
END:STANDARD
END:VTIMEZONE
BEGIN:VEVENT
DTSTART;TZID=America/Denver:20260307T060000
DTEND;TZID=America/Denver:20260307T200000
DTSTAMP:20260421T155744
CREATED:20260304T201239Z
LAST-MODIFIED:20260304T201239Z
UID:10006268-1772863200-1772913600@deltacountycolorado.com
SUMMARY:2026 Mother Son Dance- Wranglers & Roses
DESCRIPTION:Dust off your boots for the 2026 Mother Son Dance: Wranglers & Roses! Hosted by Delta Recreation\, this western-themed evening takes place on Saturday\, March 7\, from 6:00 PM to 8:00 PM. It’s a wonderful opportunity for mothers and sons to enjoy a night of dancing and community fellowship. Attendees are encouraged to bring a dessert or side dish to share with the group. \nTickets are available for $20 per couple if purchased before March 7\, or $30 per couple at the door\, with a fee of $5 for each additional son. Join us for a memorable night of “Wranglers & Roses” in Delta
URL:https://deltacountycolorado.com/event/mother-son-dance-delta-co/
LOCATION:Bill Heddles Recreation Center\, 531 N. Palmer St.\, Delta\, CO\, 81416
CATEGORIES:Arts & Culture,Dancing,Family Friendly,Kids
ATTACH;FMTTYPE=image/jpeg:https://deltacountycolorado.com/wp-content/uploads/2026/03/Mother-Son-Dance.jpg
END:VEVENT
BEGIN:VEVENT
DTSTART;TZID=America/Denver:20260308T120000
DTEND;TZID=America/Denver:20260308T150000
DTSTAMP:20260421T155744
CREATED:20260115T205219Z
LAST-MODIFIED:20260115T205219Z
UID:10006165-1772971200-1772982000@deltacountycolorado.com
SUMMARY:Delta County 4-H Beef Roast
DESCRIPTION:Come hungry and support our local youth at the annual Delta County 4-H Beef Roast. This year\, we are hosting the event at two convenient locations to serve our community better. \n\n\nDate: March 58 2023 \n\n\nTime: 12:00 PM – 3:00 PM \n\n\nLocations: * Delta Middle School \n\n\nNorth Fork High School \n\n\n\n\nOn the Menu: Enjoy a hearty meal featuring Beef and/or Pork\, potatoes & gravy\, coleslaw\, a fresh vegetable\, cheesecake for dessert\, and a beverage. \nTicket Information: \n\n\nAdults: $15 \n\n\nChildren (12 & under): $10 \n\n\nFor more information\, please contact the office at 970-874-2195. We look forward to seeing you there! \n 
URL:https://deltacountycolorado.com/event/delta-county-4-h-beef-roast/
LOCATION:Delta Middle School\, 401 E 10th St\, Delta\, CO\, 81416
CATEGORIES:Agriculture,Family Friendly,Food,Fundraiser
ATTACH;FMTTYPE=image/png:https://deltacountycolorado.com/wp-content/uploads/2026/01/Beef-Roast.png
END:VEVENT
BEGIN:VEVENT
DTSTART;TZID=America/Denver:20260309T130000
DTEND;TZID=America/Denver:20260309T180000
DTSTAMP:20260421T155744
CREATED:20260220T175350Z
LAST-MODIFIED:20260220T175350Z
UID:10006264-1773061200-1773079200@deltacountycolorado.com
SUMMARY:The Nature Connection Open House
DESCRIPTION:Celebrate a major milestone with The Nature Connection! We are thrilled to announce that our GOCO grant has been renewed for five more years\, and we want you to help us commemorate this achievement. Join us for a community Open House on Monday\, March 9\, from 1:00 PM to 6:00 PM at our facility in Hotchkiss. \nThis family-friendly event features free food and specialized kid’s activities from 1:00 PM to 3:00 PM. Attendees can meet our dedicated team\, learn about our exciting plans for the next five years\, and enter to win rad door prizes\, including a free week of summer camp\, a guided SUP day\, and a ski share for a family of four. Come see how we are continuing to connect our community with the great outdoors!
URL:https://deltacountycolorado.com/event/nature-connection-open-house/
LOCATION:The Nature Connection\, 397 Bulldog St.\, Hotchkiss\, CO\, 81419
CATEGORIES:Community Talk,Family Friendly,Free Community Event,Outdoor
END:VEVENT
BEGIN:VEVENT
DTSTART;TZID=America/Denver:20260326T100000
DTEND;TZID=America/Denver:20260326T160000
DTSTAMP:20260421T155744
CREATED:20260304T202340Z
LAST-MODIFIED:20260304T202340Z
UID:10006269-1774519200-1774540800@deltacountycolorado.com
SUMMARY:Grand Mesa Snowshoe Trip- City of Delta
DESCRIPTION:Experience the winter beauty of the Grand Mesa with Delta Recreation! Join us on Thursday\, March 26\, 2026\, for a guided snowshoe adventure exploring the groomed Ward Trails. This excursion covers the Ward to Staircase Loop\, a 2.5-mile journey through scenic aspen and spruce forests\, frozen lakes\, and open areas offering spectacular 100-mile views of the San Juan Mountains.The group will depart from Bill Heddles Recreation Center at 10:00 AM and return by 4:00 PM. The trip includes a stop for lunch at Kennymore’s Bar & Grill. Whether you are a seasoned snowshoer or a beginner\, our guides will ensure a fantastic day in the snow!
URL:https://deltacountycolorado.com/event/grand-mesa-snowshoe-trip-city-of-delta/
LOCATION:Grand Mesa Visitor Center\, 20090 Baron Lake Drive\, Cedaredge\, CO\, 81413
CATEGORIES:Family Friendly,Health & Wellness,Hike,Winter Activities
ATTACH;FMTTYPE=image/png:https://deltacountycolorado.com/wp-content/uploads/2026/03/Grand-Mea-Snow-Shoe-Trip-AI-Generated-Image-scaled.png
END:VEVENT
BEGIN:VEVENT
DTSTART;TZID=America/Denver:20260408T170000
DTEND;TZID=America/Denver:20260408T200000
DTSTAMP:20260421T155744
CREATED:20260402T174604Z
LAST-MODIFIED:20260402T174604Z
UID:10006295-1775667600-1775678400@deltacountycolorado.com
SUMMARY:VOGA Farmers Social
DESCRIPTION:The Valley Organic Growers Association (VOGA) invites you to our monthly Farmers Social! This recurring community gathering takes place on the second Wednesday of every month\, providing a vital space for farmers\, ranchers\, producers\, families\, and friends to connect. \nJoin us on Wednesday\, April 8th\, at the beautiful Cobblestone Farm in Hotchkiss. This is a Potluck Gathering\, so please bring a dish or a drink to share! Whether you are looking to talk shop about local agriculture or simply enjoy a great meal with neighbors\, we look forward to an evening of conversation\, food\, and community connection. \n\nEvent Details\n\n\nDate: Wednesday\, April 8\, 2026 \n\n\nTime: 5:00 PM – 8:00 PM \n\n\nLocation: Cobblestone Farm\, 35294 Hanson Mesa Rd\, Hotchkiss\, CO \n\n\nFormat: Potluck (Please bring a dish or drink to share!) \n\n\nWho: Farmers\, ranchers\, producers\, families\, and friends \n\n\nMore Info: vogaco.org
URL:https://deltacountycolorado.com/event/voga-farmers-social/
LOCATION:Hotchkiss\, CO\, Hotchkiss\, CO\, 81419
CATEGORIES:Agriculture,Family Friendly,Food,Free Community Event
ATTACH;FMTTYPE=image/jpeg:https://deltacountycolorado.com/wp-content/uploads/2026/04/Voga-Farmers-Social.jpg
END:VEVENT
BEGIN:VEVENT
DTSTART;TZID=America/Denver:20260411T100000
DTEND;TZID=America/Denver:20260411T150000
DTSTAMP:20260421T155744
CREATED:20260326T151352Z
LAST-MODIFIED:20260326T151352Z
UID:10006285-1775901600-1775919600@deltacountycolorado.com
SUMMARY:Skyway Station Grand Opening Party-
DESCRIPTION:This is a historic milestone for the Grand Mesa Nordic Council (GMNC)! Here is the optimized content for the Skyway Station Grand Opening. \nWe are thrilled to personally invite you to the Grand Opening of Skyway Station on Saturday\, April 11\, 2026. This celebration marks a monumental achievement for the GMNC community\, made possible by the generous support of over 300 foundations\, businesses\, and individuals who allowed us to complete construction in a single season. \nJoin us at the Skyway Trailhead to tour our new gathering space\, operations basement\, and snowcat garage. We want to recognize the tireless work of the Cristee-Meade Building Company\, Empowered Energy Systems\, our subcontractors\, and project manager Dan Tille for keeping this project on budget and on time. We also extend our deepest gratitude to the U.S. Forest Service and our community partners for their unwavering support. \nCome see how this new facility will serve our ski community for years to come! \nEvent Schedule \nRibbon Cutting & Announcements: 10:00 AM \nFacility Tours: Ongoing until 2:00 PM \nRefreshments: Light refreshments will be served
URL:https://deltacountycolorado.com/event/skyway-station-grand-opening-party/
LOCATION:Grand Mesa Skyway Station\, Forest Road #118\, Cedaredge\, CO\, 81413
CATEGORIES:Family Friendly,Fundraiser,Outdoor,Ski Event
ATTACH;FMTTYPE=image/jpeg:https://deltacountycolorado.com/wp-content/uploads/2026/03/Sky-way-Station.jpg
ORGANIZER;CN="Grand Mesa Nordic Council":MAILTO:christie@gmnc.org
END:VEVENT
BEGIN:VEVENT
DTSTART;VALUE=DATE:20260508
DTEND;VALUE=DATE:20260511
DTSTAMP:20260421T155744
CREATED:20251117T174225Z
LAST-MODIFIED:20251117T174225Z
UID:10006112-1778198400-1778457599@deltacountycolorado.com
SUMMARY:The 23rd Annual Hotchkiss Sheep Dog Trials
DESCRIPTION:The 23rd Annual HSCSDT will be held May 8-10\, 2026. Mother’s Day Weekend in Hotchkiss CO. We are excited to continue this tradition. The entry date has changed. The Entry Opening Date is 2/28/2026 and the Closing Date is 3/14/2026. The Trial is USBCHA sanctioned. Please enter on Dogtrialentry.com.
URL:https://deltacountycolorado.com/event/the-23rd-annual-hotchkiss-sheep-dog-trials/
LOCATION:Hotchkiss\, CO\, Hotchkiss\, CO\, 81419
CATEGORIES:Agriculture,Education,Family Friendly,Outdoor
ATTACH;FMTTYPE=image/jpeg:https://deltacountycolorado.com/wp-content/uploads/2025/11/Sheep-Dog-1.jpg
ORGANIZER;CN="Hotchkiss Sheep Camp Stock Dog Trial":MAILTO:joliemclark@gmail.com
END:VEVENT
BEGIN:VEVENT
DTSTART;VALUE=DATE:20260530
DTEND;VALUE=DATE:20260601
DTSTAMP:20260421T155744
CREATED:20260316T193545Z
LAST-MODIFIED:20260316T193545Z
UID:10006282-1780099200-1780271999@deltacountycolorado.com
SUMMARY:The 24th Annual Riverfest presented by Western Slope Conservation Center and The Learning Council 
DESCRIPTION:  \nCelebrate the lifeblood of our valley at the 24th Annual Riverfest\, happening Saturday\, May 30\, 2026\, at the beautiful Paonia River Park. Presented by the Western Slope Conservation Center and The Learning Council\, this landmark community event brings together neighbors and visitors to honor our local waterways. \nThe day is packed with entertainment for all ages\, including live music\, delicious local food\, and engaging river-themed activities. Don’t miss the silent auction\, which directly supports conservation and educational programming in the North Fork Valley. Whether you’re here to dance by the riverbank or learn more about our local ecosystem\, Riverfest is the ultimate kick-off to the summer season!
URL:https://deltacountycolorado.com/event/the-24th-annual-riverfest-presented-by-western-slope-conservation-center-and-the-learning-council/
LOCATION:Paonia River Park
CATEGORIES:Agriculture,Family Friendly,Live Music,Water Events
ATTACH;FMTTYPE=image/png:https://deltacountycolorado.com/wp-content/uploads/2026/03/riverfest-e1773689732652.png
ORGANIZER;CN="Western Slope Conservation Center":MAILTO:info@theconservationcenter.org
GEO:38.87539;-107.59567
END:VEVENT
END:VCALENDAR