BEGIN:VCALENDAR
VERSION:2.0
PRODID:-//Delta County Tourism - ECPv6.15.20//NONSGML v1.0//EN
CALSCALE:GREGORIAN
METHOD:PUBLISH
X-WR-CALNAME:Delta County Tourism
X-ORIGINAL-URL:https://deltacountycolorado.com
X-WR-CALDESC:Events for Delta County Tourism
REFRESH-INTERVAL;VALUE=DURATION:PT1H
X-Robots-Tag:noindex
X-PUBLISHED-TTL:PT1H
BEGIN:VTIMEZONE
TZID:America/Denver
BEGIN:DAYLIGHT
TZOFFSETFROM:-0700
TZOFFSETTO:-0600
TZNAME:MDT
DTSTART:20250309T090000
END:DAYLIGHT
BEGIN:STANDARD
TZOFFSETFROM:-0600
TZOFFSETTO:-0700
TZNAME:MST
DTSTART:20251102T080000
END:STANDARD
BEGIN:DAYLIGHT
TZOFFSETFROM:-0700
TZOFFSETTO:-0600
TZNAME:MDT
DTSTART:20260308T090000
END:DAYLIGHT
BEGIN:STANDARD
TZOFFSETFROM:-0600
TZOFFSETTO:-0700
TZNAME:MST
DTSTART:20261101T080000
END:STANDARD
BEGIN:DAYLIGHT
TZOFFSETFROM:-0700
TZOFFSETTO:-0600
TZNAME:MDT
DTSTART:20270314T090000
END:DAYLIGHT
BEGIN:STANDARD
TZOFFSETFROM:-0600
TZOFFSETTO:-0700
TZNAME:MST
DTSTART:20271107T080000
END:STANDARD
END:VTIMEZONE
BEGIN:VEVENT
DTSTART;VALUE=DATE:20260501
DTEND;VALUE=DATE:20260504
DTSTAMP:20260420T081839
CREATED:20260211T205805Z
LAST-MODIFIED:20260211T205805Z
UID:10006240-1777593600-1777852799@deltacountycolorado.com
SUMMARY:The 5th Annual Hestival - Big B's Delicious Orchards
DESCRIPTION:The 5th Annual HESTIVAL returns to Big B’s Delicious Orchards the weekend of May 1–3\, 2026! This year\, the event evolves into a purpose-driven festival in partnership with The Conservation Alliance\, celebrating and protecting the public lands where we play and camp. \nThe weekend features an incredible live music lineup including the Jeremy Garrett Bluegrass Band featuring Kyle Tuttle\, John Craigie\, and The Coffis Brothers. True to its roots\, HESTIVAL remains a family and dog-friendly experience filled with outdoor adventures\, local food\, and nights spent camping under the stars in blossoming apple orchards. A portion of every ticket sold will be donated to help raise awareness and advocacy for our treasured public land
URL:https://deltacountycolorado.com/event/the-5th-annual-hestival-big-bs-delicious-orchards/
LOCATION:Big B’s Delicious Orchards U-pick\, Cafe & Tasting Room\, 39126 CO-133\, Hotchkiss\, CO\, 81419
CATEGORIES:Arts & Culture,Camping,Festivals,Live Music
ATTACH;FMTTYPE=image/jpeg:https://deltacountycolorado.com/wp-content/uploads/2026/02/Hestival.jpg
ORGANIZER;CN="Big B's":MAILTO:info@bigbs.com
END:VEVENT
BEGIN:VEVENT
DTSTART;VALUE=DATE:20260524
DTEND;VALUE=DATE:20260527
DTSTAMP:20260420T081839
CREATED:20260312T182724Z
LAST-MODIFIED:20260312T182724Z
UID:10006278-1779580800-1779839999@deltacountycolorado.com
SUMMARY:Folk & Roots Rendezvous- Big B's Delicious Orchards
DESCRIPTION:Celebrate Memorial Day Weekend at the Folk ‘n Roots Rendezvous\, a premier three-day music festival hosted by Big B’s Delicious Orchards in Hotchkiss\, Colorado. This family-friendly event features three days of free live music set against the beautiful backdrop of the orchard. Attendees can enjoy a full weekend of campouts under starry nights\, fruitwood-smoked BBQ\, refreshing hard cider\, and fresh juices. \nThe festival kicks off Friday evening and continues through Sunday with a diverse lineup including Stillhouse Junkies\, The Steel Wheels\, and Mama Lingua\, along with interactive activities like Contra Dancing and a Beginners Bluegrass Jam. With kids’ activities and late-night picking around the campfire\, it is the perfect way to welcome the spring season in the North Fork Valley.
URL:https://deltacountycolorado.com/event/folk-roots-renzvous/
LOCATION:Big B’s Delicious Orchards U-pick\, Cafe & Tasting Room\, 39126 CO-133\, Hotchkiss\, CO\, 81419
CATEGORIES:Agriculture,Arts & Culture,Camping,Festivals,Live Music
ATTACH;FMTTYPE=image/jpeg:https://deltacountycolorado.com/wp-content/uploads/2026/03/Folk-Roots.jpg
END:VEVENT
END:VCALENDAR