BEGIN:VCALENDAR
VERSION:2.0
PRODID:-//Delta County Tourism - ECPv6.15.20//NONSGML v1.0//EN
CALSCALE:GREGORIAN
METHOD:PUBLISH
X-WR-CALNAME:Delta County Tourism
X-ORIGINAL-URL:https://deltacountycolorado.com
X-WR-CALDESC:Events for Delta County Tourism
REFRESH-INTERVAL;VALUE=DURATION:PT1H
X-Robots-Tag:noindex
X-PUBLISHED-TTL:PT1H
BEGIN:VTIMEZONE
TZID:America/Denver
BEGIN:DAYLIGHT
TZOFFSETFROM:-0700
TZOFFSETTO:-0600
TZNAME:MDT
DTSTART:20250309T090000
END:DAYLIGHT
BEGIN:STANDARD
TZOFFSETFROM:-0600
TZOFFSETTO:-0700
TZNAME:MST
DTSTART:20251102T080000
END:STANDARD
BEGIN:DAYLIGHT
TZOFFSETFROM:-0700
TZOFFSETTO:-0600
TZNAME:MDT
DTSTART:20260308T090000
END:DAYLIGHT
BEGIN:STANDARD
TZOFFSETFROM:-0600
TZOFFSETTO:-0700
TZNAME:MST
DTSTART:20261101T080000
END:STANDARD
BEGIN:DAYLIGHT
TZOFFSETFROM:-0700
TZOFFSETTO:-0600
TZNAME:MDT
DTSTART:20270314T090000
END:DAYLIGHT
BEGIN:STANDARD
TZOFFSETFROM:-0600
TZOFFSETTO:-0700
TZNAME:MST
DTSTART:20271107T080000
END:STANDARD
END:VTIMEZONE
BEGIN:VEVENT
DTSTART;VALUE=DATE:20260704
DTEND;VALUE=DATE:20260706
DTSTAMP:20260420T081855
CREATED:20260115T191855Z
LAST-MODIFIED:20260115T192659Z
UID:10006162-1783123200-1783295999@deltacountycolorado.com
SUMMARY:Paonia Cherry Days- An Annual 4th of July Celebration
DESCRIPTION:Paonia Cherry Days is the longest standing community festival in Colorado\, held in Paonia each year over the 4th of July holiday. \nA cherished tradition since 1946\, Paonia Cherry Days returns for 2026! Experience the ultimate community celebration featuring our famous hometown parade\, coal shoveling contests\, local crafts\, and delicious cherry pies. Whether you’re here for the live music at Town Park or the vibrant street festivities\, Cherry Days is the perfect way to celebrate the 4th of July in the North Fork Valley.
URL:https://deltacountycolorado.com/event/paonia-cherry-days-an-annual-4th-of-july-celebration/
LOCATION:Paonia\, Paonia\, CO\, 81428
CATEGORIES:Agriculture,America 250- Colorado 150,Festivals
ATTACH;FMTTYPE=image/png:https://deltacountycolorado.com/wp-content/uploads/2026/01/Cherrry-Days-1.png
END:VEVENT
END:VCALENDAR