BEGIN:VCALENDAR
VERSION:2.0
PRODID:-//Delta County Tourism - ECPv6.15.20//NONSGML v1.0//EN
CALSCALE:GREGORIAN
METHOD:PUBLISH
X-WR-CALNAME:Delta County Tourism
X-ORIGINAL-URL:https://deltacountycolorado.com
X-WR-CALDESC:Events for Delta County Tourism
REFRESH-INTERVAL;VALUE=DURATION:PT1H
X-Robots-Tag:noindex
X-PUBLISHED-TTL:PT1H
BEGIN:VTIMEZONE
TZID:America/Denver
BEGIN:DAYLIGHT
TZOFFSETFROM:-0700
TZOFFSETTO:-0600
TZNAME:MDT
DTSTART:20250309T090000
END:DAYLIGHT
BEGIN:STANDARD
TZOFFSETFROM:-0600
TZOFFSETTO:-0700
TZNAME:MST
DTSTART:20251102T080000
END:STANDARD
BEGIN:DAYLIGHT
TZOFFSETFROM:-0700
TZOFFSETTO:-0600
TZNAME:MDT
DTSTART:20260308T090000
END:DAYLIGHT
BEGIN:STANDARD
TZOFFSETFROM:-0600
TZOFFSETTO:-0700
TZNAME:MST
DTSTART:20261101T080000
END:STANDARD
BEGIN:DAYLIGHT
TZOFFSETFROM:-0700
TZOFFSETTO:-0600
TZNAME:MDT
DTSTART:20270314T090000
END:DAYLIGHT
BEGIN:STANDARD
TZOFFSETFROM:-0600
TZOFFSETTO:-0700
TZNAME:MST
DTSTART:20271107T080000
END:STANDARD
END:VTIMEZONE
BEGIN:VEVENT
DTSTART;TZID=America/Denver:20260208T160000
DTEND;TZID=America/Denver:20260208T183000
DTSTAMP:20260422T190346
CREATED:20260122T193456Z
LAST-MODIFIED:20260122T194058Z
UID:10006173-1770566400-1770575400@deltacountycolorado.com
SUMMARY:Wine & Watercolor fundraiser for NFSIS
DESCRIPTION:Support the North Fork School of Integrated Studies with an evening of creativity and relaxation! Enjoy professional watercolor instruction\, delicious libations\, and snacks at the Blue Sage Center for the Arts. Limited tickets available—get yours today!
URL:https://deltacountycolorado.com/event/wine-watercolor-fundraiser-for-nfsis/
LOCATION:Blue Sage Center for the Arts\, 226 Grand Avenue\, Paonia\, CO\, 81428
CATEGORIES:Arts & Crafts,Fundraiser
ATTACH;FMTTYPE=image/png:https://deltacountycolorado.com/wp-content/uploads/2026/01/Wine-Water-Color.png
END:VEVENT
END:VCALENDAR