BEGIN:VCALENDAR
VERSION:2.0
PRODID:-//Delta County Tourism - ECPv6.15.20//NONSGML v1.0//EN
CALSCALE:GREGORIAN
METHOD:PUBLISH
X-WR-CALNAME:Delta County Tourism
X-ORIGINAL-URL:https://deltacountycolorado.com
X-WR-CALDESC:Events for Delta County Tourism
REFRESH-INTERVAL;VALUE=DURATION:PT1H
X-Robots-Tag:noindex
X-PUBLISHED-TTL:PT1H
BEGIN:VTIMEZONE
TZID:America/Denver
BEGIN:DAYLIGHT
TZOFFSETFROM:-0700
TZOFFSETTO:-0600
TZNAME:MDT
DTSTART:20260308T090000
END:DAYLIGHT
BEGIN:STANDARD
TZOFFSETFROM:-0600
TZOFFSETTO:-0700
TZNAME:MST
DTSTART:20261101T080000
END:STANDARD
BEGIN:DAYLIGHT
TZOFFSETFROM:-0700
TZOFFSETTO:-0600
TZNAME:MDT
DTSTART:20270314T090000
END:DAYLIGHT
BEGIN:STANDARD
TZOFFSETFROM:-0600
TZOFFSETTO:-0700
TZNAME:MST
DTSTART:20271107T080000
END:STANDARD
BEGIN:DAYLIGHT
TZOFFSETFROM:-0700
TZOFFSETTO:-0600
TZNAME:MDT
DTSTART:20280312T090000
END:DAYLIGHT
BEGIN:STANDARD
TZOFFSETFROM:-0600
TZOFFSETTO:-0700
TZNAME:MST
DTSTART:20281105T080000
END:STANDARD
END:VTIMEZONE
BEGIN:VEVENT
DTSTART;TZID=America/Denver:20270715T173000
DTEND;TZID=America/Denver:20270715T200000
DTSTAMP:20260419T115717
CREATED:20260414T174358Z
LAST-MODIFIED:20260414T174358Z
UID:10006319-1815672600-1815681600@deltacountycolorado.com
SUMMARY:Live at 5:55- Open Mic Nights GMAEC
DESCRIPTION:Step into the spotlight at Live at 5:55 ~ Open Mic Nights\, presented by CropWorx! Held one Tuesday each month at the Grand Mesa Arts & Events Center\, this is your chance to share your talents in an intimate\, supportive\, and family-friendly setting. Whether you want to sing\, read poetry\, play music\, or try out a comedy set\, we want to see what you’ve got! \nThis event is open to the public and all ages are welcome to participate or simply enjoy the show. Grab a drink or a snack at our concessions and settle in for a night of local creativity. Performers can sign up on-site starting at 5:30 PM. \nEvent Details\nWhen: The Third Tuesday each month \nTime: 5:55 PM – 8:00 PM (Sign-ups at 5:30 PM) \nLocation: Grand Mesa Arts & Events Center \nAddress: 195 W. Main Street\, Cedaredge\, CO 81413 \nCost: Suggested Donation $5 \nPerks: Beer\, wine\, and concessions available!
URL:https://deltacountycolorado.com/event/live-at-555-open-mic-nights-gmaec/2027-07-15/
LOCATION:Grand Mesa Arts and Events Center\, 195 W. Main St.\, Cedaredge\, CO\, 81413
CATEGORIES:Arts & Culture,Live Music
ATTACH;FMTTYPE=image/jpeg:https://deltacountycolorado.com/wp-content/uploads/2026/04/Open-Mic-Night-CropWorx-2-scaled.jpg
ORGANIZER;CN="Grand Mesa Arts and Events Center":MAILTO:info@grandmesaartscenter.com
END:VEVENT
BEGIN:VEVENT
DTSTART;TZID=America/Denver:20270819T173000
DTEND;TZID=America/Denver:20270819T200000
DTSTAMP:20260419T115717
CREATED:20260414T174358Z
LAST-MODIFIED:20260414T174358Z
UID:10006320-1818696600-1818705600@deltacountycolorado.com
SUMMARY:Live at 5:55- Open Mic Nights GMAEC
DESCRIPTION:Step into the spotlight at Live at 5:55 ~ Open Mic Nights\, presented by CropWorx! Held one Tuesday each month at the Grand Mesa Arts & Events Center\, this is your chance to share your talents in an intimate\, supportive\, and family-friendly setting. Whether you want to sing\, read poetry\, play music\, or try out a comedy set\, we want to see what you’ve got! \nThis event is open to the public and all ages are welcome to participate or simply enjoy the show. Grab a drink or a snack at our concessions and settle in for a night of local creativity. Performers can sign up on-site starting at 5:30 PM. \nEvent Details\nWhen: The Third Tuesday each month \nTime: 5:55 PM – 8:00 PM (Sign-ups at 5:30 PM) \nLocation: Grand Mesa Arts & Events Center \nAddress: 195 W. Main Street\, Cedaredge\, CO 81413 \nCost: Suggested Donation $5 \nPerks: Beer\, wine\, and concessions available!
URL:https://deltacountycolorado.com/event/live-at-555-open-mic-nights-gmaec/2027-08-19/
LOCATION:Grand Mesa Arts and Events Center\, 195 W. Main St.\, Cedaredge\, CO\, 81413
CATEGORIES:Arts & Culture,Live Music
ATTACH;FMTTYPE=image/jpeg:https://deltacountycolorado.com/wp-content/uploads/2026/04/Open-Mic-Night-CropWorx-2-scaled.jpg
ORGANIZER;CN="Grand Mesa Arts and Events Center":MAILTO:info@grandmesaartscenter.com
END:VEVENT
END:VCALENDAR