BEGIN:VCALENDAR
VERSION:2.0
PRODID:-//Delta County Tourism - ECPv6.15.20//NONSGML v1.0//EN
CALSCALE:GREGORIAN
METHOD:PUBLISH
X-ORIGINAL-URL:https://deltacountycolorado.com
X-WR-CALDESC:Events for Delta County Tourism
REFRESH-INTERVAL;VALUE=DURATION:PT1H
X-Robots-Tag:noindex
X-PUBLISHED-TTL:PT1H
BEGIN:VTIMEZONE
TZID:America/Denver
BEGIN:DAYLIGHT
TZOFFSETFROM:-0700
TZOFFSETTO:-0600
TZNAME:MDT
DTSTART:20260308T090000
END:DAYLIGHT
BEGIN:STANDARD
TZOFFSETFROM:-0600
TZOFFSETTO:-0700
TZNAME:MST
DTSTART:20261101T080000
END:STANDARD
BEGIN:DAYLIGHT
TZOFFSETFROM:-0700
TZOFFSETTO:-0600
TZNAME:MDT
DTSTART:20270314T090000
END:DAYLIGHT
BEGIN:STANDARD
TZOFFSETFROM:-0600
TZOFFSETTO:-0700
TZNAME:MST
DTSTART:20271107T080000
END:STANDARD
BEGIN:DAYLIGHT
TZOFFSETFROM:-0700
TZOFFSETTO:-0600
TZNAME:MDT
DTSTART:20280312T090000
END:DAYLIGHT
BEGIN:STANDARD
TZOFFSETFROM:-0600
TZOFFSETTO:-0700
TZNAME:MST
DTSTART:20281105T080000
END:STANDARD
END:VTIMEZONE
BEGIN:VEVENT
DTSTART;TZID=America/Denver:20270918T190000
DTEND;TZID=America/Denver:20270918T210000
DTSTAMP:20260425T050357
CREATED:20260424T164239Z
LAST-MODIFIED:20260424T164239Z
UID:10006571-1821294000-1821301200@deltacountycolorado.com
SUMMARY:Saturday Sessions at Big B's
DESCRIPTION:Saturday nights just got a whole lot better! Big B’s Delicious Orchards and Pickin’ Productions are proud to present the 2026 Saturday Sessions. This free concert series features 24 summer nights of incredible live music spanning from May through October. \nCome early to paddle in the pond\, then grab dinner at the café\, which serves fresh-made food\, award-winning ciders\, and juices. With a 7:00 PM showtime and free entry\, it’s the perfect weekend hang for friends and family. Want to make a full weekend of it? Make a camping reservation at bigbs.com and enjoy back-to-back music with our Friday night series! \nEvent Details\n\n\nWhen: Saturdays\, May 2 – October 10\, 2026 \n\n\nTime: 7:00 PM Showtime \n\n\nWhere: Big B’s Delicious Orchards\, 39126 Hwy 133\, Hotchkiss\, CO \n\n\nCost: FREE Entry \n\n\nAmenities: Café\, Bar\, Camping\, and Pond Paddling
URL:https://deltacountycolorado.com/event/saturday-sessions-at-big-bs/2027-09-18/
LOCATION:Big B’s Delicious Orchards U-pick\, Cafe & Tasting Room\, 39126 CO-133\, Hotchkiss\, CO\, 81419
CATEGORIES:Agriculture,Arts & Culture,Camping,Live Music
ATTACH;FMTTYPE=image/jpeg:https://deltacountycolorado.com/wp-content/uploads/2026/04/Big-B-Saturday.jpg
ORGANIZER;CN="Big B's":MAILTO:info@bigbs.com
END:VEVENT
BEGIN:VEVENT
DTSTART;TZID=America/Denver:20270921T170000
DTEND;TZID=America/Denver:20270921T193000
DTSTAMP:20260425T050357
CREATED:20260416T172135Z
LAST-MODIFIED:20260416T172135Z
UID:10006413-1821546000-1821555000@deltacountycolorado.com
SUMMARY:Arbol Farmers Market- Summer
DESCRIPTION:The heart of Paonia’s local food scene is back! Starting May 12th\, the Arbol Farmers Market returns to Town Park for the summer season. Join us every Tuesday from 5:00 PM – 7:30 PM to celebrate our local growers\, makers\, and artisans. \nWe are kicking off the season in style with live music and a fantastic lineup of both new and returning vendors. Whether you’re looking for the freshest seasonal produce\, handmade crafts\, or a vibrant community atmosphere to spend your Tuesday evenings\, Arbol Farmers Market is the place to be. \n  \nEvent Details\nWhen: Every Tuesday\, starting May 12th \nTime: 5:00 PM – 7:30 PM \nLocation: Paonia Town Park \nFeatures: Live Music\, Local Produce\, Handcrafted Goods\, and New Vendors
URL:https://deltacountycolorado.com/event/arbol-farmers-market-summer/2027-09-21/
LOCATION:Paonia Town Park\, 700 4th St.\, Paonia\, CO\, 81428
CATEGORIES:Agriculture,Farmers Market
ATTACH;FMTTYPE=image/png:https://deltacountycolorado.com/wp-content/uploads/2026/04/Arbol.png
END:VEVENT
BEGIN:VEVENT
DTSTART;TZID=America/Denver:20270925T190000
DTEND;TZID=America/Denver:20270925T210000
DTSTAMP:20260425T050357
CREATED:20260424T164239Z
LAST-MODIFIED:20260424T164239Z
UID:10006572-1821898800-1821906000@deltacountycolorado.com
SUMMARY:Saturday Sessions at Big B's
DESCRIPTION:Saturday nights just got a whole lot better! Big B’s Delicious Orchards and Pickin’ Productions are proud to present the 2026 Saturday Sessions. This free concert series features 24 summer nights of incredible live music spanning from May through October. \nCome early to paddle in the pond\, then grab dinner at the café\, which serves fresh-made food\, award-winning ciders\, and juices. With a 7:00 PM showtime and free entry\, it’s the perfect weekend hang for friends and family. Want to make a full weekend of it? Make a camping reservation at bigbs.com and enjoy back-to-back music with our Friday night series! \nEvent Details\n\n\nWhen: Saturdays\, May 2 – October 10\, 2026 \n\n\nTime: 7:00 PM Showtime \n\n\nWhere: Big B’s Delicious Orchards\, 39126 Hwy 133\, Hotchkiss\, CO \n\n\nCost: FREE Entry \n\n\nAmenities: Café\, Bar\, Camping\, and Pond Paddling
URL:https://deltacountycolorado.com/event/saturday-sessions-at-big-bs/2027-09-25/
LOCATION:Big B’s Delicious Orchards U-pick\, Cafe & Tasting Room\, 39126 CO-133\, Hotchkiss\, CO\, 81419
CATEGORIES:Agriculture,Arts & Culture,Camping,Live Music
ATTACH;FMTTYPE=image/jpeg:https://deltacountycolorado.com/wp-content/uploads/2026/04/Big-B-Saturday.jpg
ORGANIZER;CN="Big B's":MAILTO:info@bigbs.com
END:VEVENT
BEGIN:VEVENT
DTSTART;TZID=America/Denver:20270928T170000
DTEND;TZID=America/Denver:20270928T193000
DTSTAMP:20260425T050357
CREATED:20260416T172135Z
LAST-MODIFIED:20260416T172135Z
UID:10006414-1822150800-1822159800@deltacountycolorado.com
SUMMARY:Arbol Farmers Market- Summer
DESCRIPTION:The heart of Paonia’s local food scene is back! Starting May 12th\, the Arbol Farmers Market returns to Town Park for the summer season. Join us every Tuesday from 5:00 PM – 7:30 PM to celebrate our local growers\, makers\, and artisans. \nWe are kicking off the season in style with live music and a fantastic lineup of both new and returning vendors. Whether you’re looking for the freshest seasonal produce\, handmade crafts\, or a vibrant community atmosphere to spend your Tuesday evenings\, Arbol Farmers Market is the place to be. \n  \nEvent Details\nWhen: Every Tuesday\, starting May 12th \nTime: 5:00 PM – 7:30 PM \nLocation: Paonia Town Park \nFeatures: Live Music\, Local Produce\, Handcrafted Goods\, and New Vendors
URL:https://deltacountycolorado.com/event/arbol-farmers-market-summer/2027-09-28/
LOCATION:Paonia Town Park\, 700 4th St.\, Paonia\, CO\, 81428
CATEGORIES:Agriculture,Farmers Market
ATTACH;FMTTYPE=image/png:https://deltacountycolorado.com/wp-content/uploads/2026/04/Arbol.png
END:VEVENT
BEGIN:VEVENT
DTSTART;TZID=America/Denver:20271002T190000
DTEND;TZID=America/Denver:20271002T210000
DTSTAMP:20260425T050357
CREATED:20260424T164239Z
LAST-MODIFIED:20260424T164239Z
UID:10006573-1822503600-1822510800@deltacountycolorado.com
SUMMARY:Saturday Sessions at Big B's
DESCRIPTION:Saturday nights just got a whole lot better! Big B’s Delicious Orchards and Pickin’ Productions are proud to present the 2026 Saturday Sessions. This free concert series features 24 summer nights of incredible live music spanning from May through October. \nCome early to paddle in the pond\, then grab dinner at the café\, which serves fresh-made food\, award-winning ciders\, and juices. With a 7:00 PM showtime and free entry\, it’s the perfect weekend hang for friends and family. Want to make a full weekend of it? Make a camping reservation at bigbs.com and enjoy back-to-back music with our Friday night series! \nEvent Details\n\n\nWhen: Saturdays\, May 2 – October 10\, 2026 \n\n\nTime: 7:00 PM Showtime \n\n\nWhere: Big B’s Delicious Orchards\, 39126 Hwy 133\, Hotchkiss\, CO \n\n\nCost: FREE Entry \n\n\nAmenities: Café\, Bar\, Camping\, and Pond Paddling
URL:https://deltacountycolorado.com/event/saturday-sessions-at-big-bs/2027-10-02/
LOCATION:Big B’s Delicious Orchards U-pick\, Cafe & Tasting Room\, 39126 CO-133\, Hotchkiss\, CO\, 81419
CATEGORIES:Agriculture,Arts & Culture,Camping,Live Music
ATTACH;FMTTYPE=image/jpeg:https://deltacountycolorado.com/wp-content/uploads/2026/04/Big-B-Saturday.jpg
ORGANIZER;CN="Big B's":MAILTO:info@bigbs.com
END:VEVENT
BEGIN:VEVENT
DTSTART;TZID=America/Denver:20271009T190000
DTEND;TZID=America/Denver:20271009T210000
DTSTAMP:20260425T050357
CREATED:20260424T164239Z
LAST-MODIFIED:20260424T164239Z
UID:10006574-1823108400-1823115600@deltacountycolorado.com
SUMMARY:Saturday Sessions at Big B's
DESCRIPTION:Saturday nights just got a whole lot better! Big B’s Delicious Orchards and Pickin’ Productions are proud to present the 2026 Saturday Sessions. This free concert series features 24 summer nights of incredible live music spanning from May through October. \nCome early to paddle in the pond\, then grab dinner at the café\, which serves fresh-made food\, award-winning ciders\, and juices. With a 7:00 PM showtime and free entry\, it’s the perfect weekend hang for friends and family. Want to make a full weekend of it? Make a camping reservation at bigbs.com and enjoy back-to-back music with our Friday night series! \nEvent Details\n\n\nWhen: Saturdays\, May 2 – October 10\, 2026 \n\n\nTime: 7:00 PM Showtime \n\n\nWhere: Big B’s Delicious Orchards\, 39126 Hwy 133\, Hotchkiss\, CO \n\n\nCost: FREE Entry \n\n\nAmenities: Café\, Bar\, Camping\, and Pond Paddling
URL:https://deltacountycolorado.com/event/saturday-sessions-at-big-bs/2027-10-09/
LOCATION:Big B’s Delicious Orchards U-pick\, Cafe & Tasting Room\, 39126 CO-133\, Hotchkiss\, CO\, 81419
CATEGORIES:Agriculture,Arts & Culture,Camping,Live Music
ATTACH;FMTTYPE=image/jpeg:https://deltacountycolorado.com/wp-content/uploads/2026/04/Big-B-Saturday.jpg
ORGANIZER;CN="Big B's":MAILTO:info@bigbs.com
END:VEVENT
END:VCALENDAR