BEGIN:VCALENDAR
VERSION:2.0
PRODID:-//Delta County Tourism - ECPv6.15.20//NONSGML v1.0//EN
CALSCALE:GREGORIAN
METHOD:PUBLISH
X-ORIGINAL-URL:https://deltacountycolorado.com
X-WR-CALDESC:Events for Delta County Tourism
REFRESH-INTERVAL;VALUE=DURATION:PT1H
X-Robots-Tag:noindex
X-PUBLISHED-TTL:PT1H
BEGIN:VTIMEZONE
TZID:America/Denver
BEGIN:DAYLIGHT
TZOFFSETFROM:-0700
TZOFFSETTO:-0600
TZNAME:MDT
DTSTART:20250309T090000
END:DAYLIGHT
BEGIN:STANDARD
TZOFFSETFROM:-0600
TZOFFSETTO:-0700
TZNAME:MST
DTSTART:20251102T080000
END:STANDARD
BEGIN:DAYLIGHT
TZOFFSETFROM:-0700
TZOFFSETTO:-0600
TZNAME:MDT
DTSTART:20260308T090000
END:DAYLIGHT
BEGIN:STANDARD
TZOFFSETFROM:-0600
TZOFFSETTO:-0700
TZNAME:MST
DTSTART:20261101T080000
END:STANDARD
BEGIN:DAYLIGHT
TZOFFSETFROM:-0700
TZOFFSETTO:-0600
TZNAME:MDT
DTSTART:20270314T090000
END:DAYLIGHT
BEGIN:STANDARD
TZOFFSETFROM:-0600
TZOFFSETTO:-0700
TZNAME:MST
DTSTART:20271107T080000
END:STANDARD
END:VTIMEZONE
BEGIN:VEVENT
DTSTART;TZID=America/Denver:20261013T170000
DTEND;TZID=America/Denver:20261013T193000
DTSTAMP:20260422T060403
CREATED:20260416T172135Z
LAST-MODIFIED:20260416T172135Z
UID:10006364-1791910800-1791919800@deltacountycolorado.com
SUMMARY:Arbol Farmers Market- Summer
DESCRIPTION:The heart of Paonia’s local food scene is back! Starting May 12th\, the Arbol Farmers Market returns to Town Park for the summer season. Join us every Tuesday from 5:00 PM – 7:30 PM to celebrate our local growers\, makers\, and artisans. \nWe are kicking off the season in style with live music and a fantastic lineup of both new and returning vendors. Whether you’re looking for the freshest seasonal produce\, handmade crafts\, or a vibrant community atmosphere to spend your Tuesday evenings\, Arbol Farmers Market is the place to be. \n  \nEvent Details\nWhen: Every Tuesday\, starting May 12th \nTime: 5:00 PM – 7:30 PM \nLocation: Paonia Town Park \nFeatures: Live Music\, Local Produce\, Handcrafted Goods\, and New Vendors
URL:https://deltacountycolorado.com/event/arbol-farmers-market-summer/2026-10-13/
LOCATION:Paonia Town Park\, 700 4th St.\, Paonia\, CO\, 81428
CATEGORIES:Agriculture,Farmers Market
ATTACH;FMTTYPE=image/png:https://deltacountycolorado.com/wp-content/uploads/2026/04/Arbol.png
END:VEVENT
BEGIN:VEVENT
DTSTART;TZID=America/Denver:20261014T083000
DTEND;TZID=America/Denver:20261014T130000
DTSTAMP:20260422T060403
CREATED:20260416T173020Z
LAST-MODIFIED:20260416T173020Z
UID:10006462-1791966600-1791982800@deltacountycolorado.com
SUMMARY:Delta CO Farmers Market & Bazaar
DESCRIPTION:Welcome to the 2026 season of the Delta Farmers Market & Bazaar\, now in an exciting NEW LOCATION! Join us at the Haven House Thrift Store (the old Summers Motors) for a vibrant community experience that is truly “in the middle of everywhere”. \nThis year\, we are celebrating our new space with more vendors and more fresh produce than ever before. Browse a diverse selection of locally grown fruits and vegetables\, handmade crafts\, and unique artisan products. Beyond the fresh finds\, our Market Bazaar is a treasure hunter’s dream\, featuring antiques\, collectibles\, and fine art. Whether you’re looking for the perfect gift\, garden starts\, or your weekly groceries\, the Delta Farmers Market & Bazaar is your one-stop shop for local quality. \nEvent Details\nSeason Dates: May 2nd – October 31st\, 2026 \nSaturday Hours: 8:30 AM – 1:00 PM (May through October) \nWednesday Hours: 8:30 AM – 1:00 PM (June through August only) \nLocation: 2195 Southgate Lane\, Delta\, CO (South of Value Lodge on Hwy 50) \nFeatured Vendors: Barajas Dream Orchard\, Twilight Coffee Roasters\, McBees Farm\, and more!
URL:https://deltacountycolorado.com/event/delta-co-farmers-market-bazaar/2026-10-14/
LOCATION:Delta CO Farmers Market & Bazaar\, 2195 South Gate Lane\, Delta\, CO\, 81416\, United States
CATEGORIES:Agriculture,Farmers Market
ATTACH;FMTTYPE=image/png:https://deltacountycolorado.com/wp-content/uploads/2026/04/Delta-farmers-market-scaled.png
ORGANIZER;CN="Delta Farmers Market":MAILTO:deltacofarmersmarket@gmail.com
END:VEVENT
BEGIN:VEVENT
DTSTART;TZID=America/Denver:20261015T173000
DTEND;TZID=America/Denver:20261015T200000
DTSTAMP:20260422T060403
CREATED:20260414T174358Z
LAST-MODIFIED:20260414T174358Z
UID:10006310-1792085400-1792094400@deltacountycolorado.com
SUMMARY:Live at 5:55- Open Mic Nights GMAEC
DESCRIPTION:Step into the spotlight at Live at 5:55 ~ Open Mic Nights\, presented by CropWorx! Held one Tuesday each month at the Grand Mesa Arts & Events Center\, this is your chance to share your talents in an intimate\, supportive\, and family-friendly setting. Whether you want to sing\, read poetry\, play music\, or try out a comedy set\, we want to see what you’ve got! \nThis event is open to the public and all ages are welcome to participate or simply enjoy the show. Grab a drink or a snack at our concessions and settle in for a night of local creativity. Performers can sign up on-site starting at 5:30 PM. \nEvent Details\nWhen: The Third Tuesday each month \nTime: 5:55 PM – 8:00 PM (Sign-ups at 5:30 PM) \nLocation: Grand Mesa Arts & Events Center \nAddress: 195 W. Main Street\, Cedaredge\, CO 81413 \nCost: Suggested Donation $5 \nPerks: Beer\, wine\, and concessions available!
URL:https://deltacountycolorado.com/event/live-at-555-open-mic-nights-gmaec/2026-10-15/
LOCATION:Grand Mesa Arts and Events Center\, 195 W. Main St.\, Cedaredge\, CO\, 81413
CATEGORIES:Arts & Culture,Live Music
ATTACH;FMTTYPE=image/jpeg:https://deltacountycolorado.com/wp-content/uploads/2026/04/Open-Mic-Night-CropWorx-2-scaled.jpg
ORGANIZER;CN="Grand Mesa Arts and Events Center":MAILTO:info@grandmesaartscenter.com
END:VEVENT
BEGIN:VEVENT
DTSTART;TZID=America/Denver:20261017T083000
DTEND;TZID=America/Denver:20261017T130000
DTSTAMP:20260422T060403
CREATED:20260416T173020Z
LAST-MODIFIED:20260416T173020Z
UID:10006463-1792225800-1792242000@deltacountycolorado.com
SUMMARY:Delta CO Farmers Market & Bazaar
DESCRIPTION:Welcome to the 2026 season of the Delta Farmers Market & Bazaar\, now in an exciting NEW LOCATION! Join us at the Haven House Thrift Store (the old Summers Motors) for a vibrant community experience that is truly “in the middle of everywhere”. \nThis year\, we are celebrating our new space with more vendors and more fresh produce than ever before. Browse a diverse selection of locally grown fruits and vegetables\, handmade crafts\, and unique artisan products. Beyond the fresh finds\, our Market Bazaar is a treasure hunter’s dream\, featuring antiques\, collectibles\, and fine art. Whether you’re looking for the perfect gift\, garden starts\, or your weekly groceries\, the Delta Farmers Market & Bazaar is your one-stop shop for local quality. \nEvent Details\nSeason Dates: May 2nd – October 31st\, 2026 \nSaturday Hours: 8:30 AM – 1:00 PM (May through October) \nWednesday Hours: 8:30 AM – 1:00 PM (June through August only) \nLocation: 2195 Southgate Lane\, Delta\, CO (South of Value Lodge on Hwy 50) \nFeatured Vendors: Barajas Dream Orchard\, Twilight Coffee Roasters\, McBees Farm\, and more!
URL:https://deltacountycolorado.com/event/delta-co-farmers-market-bazaar/2026-10-17/
LOCATION:Delta CO Farmers Market & Bazaar\, 2195 South Gate Lane\, Delta\, CO\, 81416\, United States
CATEGORIES:Agriculture,Farmers Market
ATTACH;FMTTYPE=image/png:https://deltacountycolorado.com/wp-content/uploads/2026/04/Delta-farmers-market-scaled.png
ORGANIZER;CN="Delta Farmers Market":MAILTO:deltacofarmersmarket@gmail.com
END:VEVENT
END:VCALENDAR